BEGIN:VCALENDAR
VERSION:2.0
PRODID:-//Ottawa Downtown Association - ECPv6.15.20//NONSGML v1.0//EN
CALSCALE:GREGORIAN
METHOD:PUBLISH
X-WR-CALNAME:Ottawa Downtown Association
X-ORIGINAL-URL:https://ottawadowntownassociation.org
X-WR-CALDESC:Events for Ottawa Downtown Association
REFRESH-INTERVAL;VALUE=DURATION:PT1H
X-Robots-Tag:noindex
X-PUBLISHED-TTL:PT1H
BEGIN:VTIMEZONE
TZID:America/Chicago
BEGIN:DAYLIGHT
TZOFFSETFROM:-0600
TZOFFSETTO:-0500
TZNAME:CDT
DTSTART:20250309T080000
END:DAYLIGHT
BEGIN:STANDARD
TZOFFSETFROM:-0500
TZOFFSETTO:-0600
TZNAME:CST
DTSTART:20251102T070000
END:STANDARD
BEGIN:DAYLIGHT
TZOFFSETFROM:-0600
TZOFFSETTO:-0500
TZNAME:CDT
DTSTART:20260308T080000
END:DAYLIGHT
BEGIN:STANDARD
TZOFFSETFROM:-0500
TZOFFSETTO:-0600
TZNAME:CST
DTSTART:20261101T070000
END:STANDARD
BEGIN:DAYLIGHT
TZOFFSETFROM:-0600
TZOFFSETTO:-0500
TZNAME:CDT
DTSTART:20270314T080000
END:DAYLIGHT
BEGIN:STANDARD
TZOFFSETFROM:-0500
TZOFFSETTO:-0600
TZNAME:CST
DTSTART:20271107T070000
END:STANDARD
END:VTIMEZONE
BEGIN:VEVENT
DTSTART;VALUE=DATE:20261004
DTEND;VALUE=DATE:20261005
DTSTAMP:20260423T201256
CREATED:20260121T194824Z
LAST-MODIFIED:20260121T194824Z
UID:101921-1791072000-1791158399@ottawadowntownassociation.org
SUMMARY:Fall Fest
DESCRIPTION:Join us for Fall Fest on Sunday\, Oct. 4 in downtown Ottawa. More information coming soon!
URL:https://ottawadowntownassociation.org/event/fall-fest/
LOCATION:Downtown Ottawa
CATEGORIES:Downtown Event,Kid-Friendly
END:VEVENT
END:VCALENDAR