BEGIN:VCALENDAR
VERSION:2.0
PRODID:-//Ottawa Downtown Association - ECPv6.15.20//NONSGML v1.0//EN
CALSCALE:GREGORIAN
METHOD:PUBLISH
X-WR-CALNAME:Ottawa Downtown Association
X-ORIGINAL-URL:https://ottawadowntownassociation.org
X-WR-CALDESC:Events for Ottawa Downtown Association
REFRESH-INTERVAL;VALUE=DURATION:PT1H
X-Robots-Tag:noindex
X-PUBLISHED-TTL:PT1H
BEGIN:VTIMEZONE
TZID:America/Chicago
BEGIN:DAYLIGHT
TZOFFSETFROM:-0600
TZOFFSETTO:-0500
TZNAME:CDT
DTSTART:20250309T080000
END:DAYLIGHT
BEGIN:STANDARD
TZOFFSETFROM:-0500
TZOFFSETTO:-0600
TZNAME:CST
DTSTART:20251102T070000
END:STANDARD
BEGIN:DAYLIGHT
TZOFFSETFROM:-0600
TZOFFSETTO:-0500
TZNAME:CDT
DTSTART:20260308T080000
END:DAYLIGHT
BEGIN:STANDARD
TZOFFSETFROM:-0500
TZOFFSETTO:-0600
TZNAME:CST
DTSTART:20261101T070000
END:STANDARD
BEGIN:DAYLIGHT
TZOFFSETFROM:-0600
TZOFFSETTO:-0500
TZNAME:CDT
DTSTART:20270314T080000
END:DAYLIGHT
BEGIN:STANDARD
TZOFFSETFROM:-0500
TZOFFSETTO:-0600
TZNAME:CST
DTSTART:20271107T070000
END:STANDARD
END:VTIMEZONE
BEGIN:VEVENT
DTSTART;TZID=America/Chicago:20260801T180000
DTEND;TZID=America/Chicago:20260801T200000
DTSTAMP:20260423T174550
CREATED:20260309T204410Z
LAST-MODIFIED:20260309T204410Z
UID:101977-1785607200-1785614400@ottawadowntownassociation.org
SUMMARY:Music in the Park Presents: Radium City Rebels
DESCRIPTION: Music in the Park 2026 \n\nJoin us on Saturday evenings\, 6–8 PM\, in the beautiful Washington Square for an incredible lineup of live music all summer long! From local favorites to special guest performers\, there’s something for everyone to enjoy.\n\n Bring your friends\, your family\, and your picnic blankets – let’s make this summer unforgettable in Ottawa!\n\n Don’t forget to tag your friends and share the love. Music in the Park is the place to be this summer!
URL:https://ottawadowntownassociation.org/event/music-in-the-park-presents-radium-city-rebels/
LOCATION:Washington Square Park\, 101 E Lafayette St\, Ottawa\, Illinois
CATEGORIES:Kid-Friendly,Music in the Park
ATTACH;FMTTYPE=image/webp:https://ottawadowntownassociation.org/wp-content/uploads/2026/03/Radium-City-Rebels.webp
END:VEVENT
BEGIN:VEVENT
DTSTART;TZID=America/Chicago:20260808T180000
DTEND;TZID=America/Chicago:20260808T200000
DTSTAMP:20260423T174550
CREATED:20260309T204623Z
LAST-MODIFIED:20260330T150739Z
UID:101980-1786212000-1786219200@ottawadowntownassociation.org
SUMMARY:Music in the Park Presents: Claremont Drive
DESCRIPTION: Music in the Park 2026 \nJoin us on Saturday evenings\, 6–8 PM\, in the beautiful Washington Square for an incredible lineup of live music all summer long! From local favorites to special guest performers\, there’s something for everyone to enjoy.\n Bring your friends\, your family\, and your picnic blankets – let’s make this summer unforgettable in Ottawa!\n Don’t forget to tag your friends and share the love. Music in the Park is the place to be this summer!
URL:https://ottawadowntownassociation.org/event/music-in-the-park-presents-clarmont-drive/
LOCATION:Washington Square Park\, 101 E Lafayette St\, Ottawa\, Illinois
CATEGORIES:Kid-Friendly,Music in the Park
ATTACH;FMTTYPE=image/webp:https://ottawadowntownassociation.org/wp-content/uploads/2026/03/Claremont-Drive.webp
END:VEVENT
BEGIN:VEVENT
DTSTART;TZID=America/Chicago:20260814T080000
DTEND;TZID=America/Chicago:20260814T170000
DTSTAMP:20260423T174550
CREATED:20260309T205801Z
LAST-MODIFIED:20260309T211308Z
UID:101995-1786694400-1786726800@ottawadowntownassociation.org
SUMMARY:Jordan Block Jams: Hotel California
DESCRIPTION: LIVE AT JORDAN BLOCK JAMS: HOTEL CALIFORNIA An Eagles Tribute Experience\n\n Date: August 14 Time: 8:00 – 10:00 PM Location: Jordan Block\, 101 W Main St.\n FREE CONCERT\nFor over three decades\, HOTEL CALIFORNIA has been recreating the legendary sound of the Eagles\, thrilling audiences around the world with one of the most authentic tribute shows in rock ’n’ roll.\nSince setting the bar in 1986\, Hotel California has become the industry-leading Eagles tribute band—playing massive outdoor stages and arenas\, sharing bills with rock legends\, and going places no tribute band has gone before.\n\nWhat sets them apart? Incredible lead vocal similarity Intensely accurate instrumentation Soaring harmonies A top-flight live performance backed by over 100 years of collective professional experience\n\nTheir show is a masterful celebration of the Eagles’ iconic catalog—one of the most game-changing song collections in the history of rock ’n’ roll—performed to perfection before your eyes and ears.\nHotel California has performed across North America and internationally in India\, Bermuda\, Dubai\, Japan\, and Tahiti\, and has shared the stage with legendary acts including The Doobie Brothers\, Lynyrd Skynyrd\, Styx\, Gretchen Wilson\, and REO Speedwagon.\n\n If you love the Eagles\, welcome to the Hotel California — you’ve just found the next best thing. \n\nBring your friends\, lawn chairs\, and your best Eagles sing-along voice for a summer night of classic rock at Jordan Block Jams!
URL:https://ottawadowntownassociation.org/event/jordan-block-jams-hotel-california/
LOCATION:Jordan Block\, 101-123 W Main St\,\, Ottawa\, IL\, 61350\, United States
CATEGORIES:Music in the Park
ATTACH;FMTTYPE=image/webp:https://ottawadowntownassociation.org/wp-content/uploads/2026/03/hotel-california.webp
END:VEVENT
BEGIN:VEVENT
DTSTART;VALUE=DATE:20260815
DTEND;VALUE=DATE:20260824
DTSTAMP:20260423T174550
CREATED:20260309T213253Z
LAST-MODIFIED:20260309T213253Z
UID:102008-1786752000-1787529599@ottawadowntownassociation.org
SUMMARY:Debate Days
DESCRIPTION:Relive the most famous debate in history.\nStep into history as our community transforms into a scene from the past!\nThroughout Debate Days\, you’ll find exciting events\, live entertainment\, and experiences that bring Ottawa’s rich history to life\, including: \n\nLincoln-Douglas Debate Re-Enactment: Relive the world’s most famous debate on the very grounds where it first took place in 1858.\nDebate Days Parade: March through downtown Ottawa in celebration of community\, history\, and pride.\nHistoric Tours & Experiences: Explore Ottawa’s landmarks and learn how our city helped shape the nation’s story.\nAnd so much more!
URL:https://ottawadowntownassociation.org/event/debate-days/
LOCATION:Downtown Ottawa
CATEGORIES:Downtown Event
ATTACH;FMTTYPE=image/png:https://ottawadowntownassociation.org/wp-content/uploads/2026/03/teaser-post-scaled.png
END:VEVENT
BEGIN:VEVENT
DTSTART;TZID=America/Chicago:20260815T180000
DTEND;TZID=America/Chicago:20260815T200000
DTSTAMP:20260423T174550
CREATED:20260309T204803Z
LAST-MODIFIED:20260309T204803Z
UID:101983-1786816800-1786824000@ottawadowntownassociation.org
SUMMARY:Music in the Park Presents: Rays Rockets
DESCRIPTION: Music in the Park 2026 \nJoin us on Saturday evenings\, 6–8 PM\, in the beautiful Washington Square for an incredible lineup of live music all summer long! From local favorites to special guest performers\, there’s something for everyone to enjoy.\n Bring your friends\, your family\, and your picnic blankets – let’s make this summer unforgettable in Ottawa!\n Don’t forget to tag your friends and share the love. Music in the Park is the place to be this summer!
URL:https://ottawadowntownassociation.org/event/music-in-the-park-presents-rays-rockets/
LOCATION:Washington Square Park\, 101 E Lafayette St\, Ottawa\, Illinois
CATEGORIES:Kid-Friendly,Music in the Park
ATTACH;FMTTYPE=image/webp:https://ottawadowntownassociation.org/wp-content/uploads/2026/03/Rays-Rockets.webp
END:VEVENT
BEGIN:VEVENT
DTSTART;TZID=America/Chicago:20260821T170000
DTEND;TZID=America/Chicago:20260821T210000
DTSTAMP:20260423T174550
CREATED:20260311T134356Z
LAST-MODIFIED:20260311T134356Z
UID:102018-1787331600-1787346000@ottawadowntownassociation.org
SUMMARY:Ottawa's Third Friday-August
DESCRIPTION:Ottawa’s Third Friday in Downtown Ottawa\, Illinois\nDates: May 15\, June 19\, July 17\, August 21\, and September 18\nLocation: Madison Street\, Downtown Ottawa\, Illinois\nCreate memories that last a lifetime at Third Friday in downtown Ottawa\, Illinois\, a lively monthly street festival celebrating local makers\, music\, and community. Held on Madison Street in the heart of historic downtown Ottawa\, Third Friday brings together artisans\, musicians\, small businesses\, and families for a fun\, relaxed night out. \nEach month features a rotating lineup of local makers and artists\, live music\, hands-on crafts\, family-friendly activities\, and pop-up experiences from downtown businesses. Stroll the street market\, discover handmade goods\, enjoy live entertainment\, and connect with the creative spirit that makes Ottawa\, Illinois such a vibrant destination. \nWhether you’re looking for a unique handmade gift\, a fun outing with the kids\, or a reason to explore downtown Ottawa shops\, restaurants\, and galleries\, Third Friday is the perfect way to kick off your weekend. \nCome experience the energy of Downtown Ottawa\, Illinois events and support local artists\, makers\, and small businesses all summer long. \nAdmission: Free
URL:https://ottawadowntownassociation.org/event/ottawas-third-friday-august/
LOCATION:Downtown Ottawa
CATEGORIES:Downtown Event,Kid-Friendly,Shopping
ATTACH;FMTTYPE=image/webp:https://ottawadowntownassociation.org/wp-content/uploads/2026/03/third-friday.webp
END:VEVENT
BEGIN:VEVENT
DTSTART;TZID=America/Chicago:20260822T080000
DTEND;TZID=America/Chicago:20260822T170000
DTSTAMP:20260423T174550
CREATED:20260309T205012Z
LAST-MODIFIED:20260309T211240Z
UID:101986-1787385600-1787418000@ottawadowntownassociation.org
SUMMARY:Music in the Park Presents: Rosie and the Rivets
DESCRIPTION: Music in the Park – Extended Edition! \n\nMark your calendars for Saturday\, August 22 – Music in the Park is getting a special extended evening from 6–9 PM! Come enjoy extra time of live music\, summer vibes\, and community fun in the beautiful Washington Square.\n\nBring your friends\, your family\, and your favorite picnic blankets – let’s make this a night to remember! 
URL:https://ottawadowntownassociation.org/event/music-in-the-park-presents-rosie-and-the-rivets/
LOCATION:Washington Square Park\, 101 E Lafayette St\, Ottawa\, Illinois
CATEGORIES:Kid-Friendly,Music in the Park
ATTACH;FMTTYPE=image/webp:https://ottawadowntownassociation.org/wp-content/uploads/2026/03/rosie-and-the-rivets.webp
END:VEVENT
BEGIN:VEVENT
DTSTART;TZID=America/Chicago:20260829T180000
DTEND;TZID=America/Chicago:20260829T200000
DTSTAMP:20260423T174550
CREATED:20260309T205226Z
LAST-MODIFIED:20260309T205226Z
UID:101989-1788026400-1788033600@ottawadowntownassociation.org
SUMMARY:Music in the Park Presents: Cadillac Grove
DESCRIPTION: Music in the Park 2026 \nJoin us on Saturday evenings\, 6–8 PM\, in the beautiful Washington Square for an incredible lineup of live music all summer long! From local favorites to special guest performers\, there’s something for everyone to enjoy.\n Bring your friends\, your family\, and your picnic blankets – let’s make this summer unforgettable in Ottawa!\n Don’t forget to tag your friends and share the love. Music in the Park is the place to be this summer!
URL:https://ottawadowntownassociation.org/event/music-in-the-park-presents-cadillac-grove/
LOCATION:Washington Square Park\, 101 E Lafayette St\, Ottawa\, Illinois
CATEGORIES:Kid-Friendly,Music in the Park
ATTACH;FMTTYPE=image/webp:https://ottawadowntownassociation.org/wp-content/uploads/2026/03/cadillac-groove.webp
END:VEVENT
END:VCALENDAR