BEGIN:VCALENDAR
VERSION:2.0
PRODID:-//Ottawa Downtown Association - ECPv6.15.20//NONSGML v1.0//EN
CALSCALE:GREGORIAN
METHOD:PUBLISH
X-WR-CALNAME:Ottawa Downtown Association
X-ORIGINAL-URL:https://ottawadowntownassociation.org
X-WR-CALDESC:Events for Ottawa Downtown Association
REFRESH-INTERVAL;VALUE=DURATION:PT1H
X-Robots-Tag:noindex
X-PUBLISHED-TTL:PT1H
BEGIN:VTIMEZONE
TZID:America/Chicago
BEGIN:DAYLIGHT
TZOFFSETFROM:-0600
TZOFFSETTO:-0500
TZNAME:CDT
DTSTART:20250309T080000
END:DAYLIGHT
BEGIN:STANDARD
TZOFFSETFROM:-0500
TZOFFSETTO:-0600
TZNAME:CST
DTSTART:20251102T070000
END:STANDARD
BEGIN:DAYLIGHT
TZOFFSETFROM:-0600
TZOFFSETTO:-0500
TZNAME:CDT
DTSTART:20260308T080000
END:DAYLIGHT
BEGIN:STANDARD
TZOFFSETFROM:-0500
TZOFFSETTO:-0600
TZNAME:CST
DTSTART:20261101T070000
END:STANDARD
BEGIN:DAYLIGHT
TZOFFSETFROM:-0600
TZOFFSETTO:-0500
TZNAME:CDT
DTSTART:20270314T080000
END:DAYLIGHT
BEGIN:STANDARD
TZOFFSETFROM:-0500
TZOFFSETTO:-0600
TZNAME:CST
DTSTART:20271107T070000
END:STANDARD
END:VTIMEZONE
BEGIN:VEVENT
DTSTART;VALUE=DATE:20260815
DTEND;VALUE=DATE:20260824
DTSTAMP:20260423T190412
CREATED:20260309T213253Z
LAST-MODIFIED:20260309T213253Z
UID:102008-1786752000-1787529599@ottawadowntownassociation.org
SUMMARY:Debate Days
DESCRIPTION:Relive the most famous debate in history.\nStep into history as our community transforms into a scene from the past!\nThroughout Debate Days\, you’ll find exciting events\, live entertainment\, and experiences that bring Ottawa’s rich history to life\, including: \n\nLincoln-Douglas Debate Re-Enactment: Relive the world’s most famous debate on the very grounds where it first took place in 1858.\nDebate Days Parade: March through downtown Ottawa in celebration of community\, history\, and pride.\nHistoric Tours & Experiences: Explore Ottawa’s landmarks and learn how our city helped shape the nation’s story.\nAnd so much more!
URL:https://ottawadowntownassociation.org/event/debate-days/
LOCATION:Downtown Ottawa
CATEGORIES:Downtown Event
ATTACH;FMTTYPE=image/png:https://ottawadowntownassociation.org/wp-content/uploads/2026/03/teaser-post-scaled.png
END:VEVENT
BEGIN:VEVENT
DTSTART;TZID=America/Chicago:20260821T170000
DTEND;TZID=America/Chicago:20260821T210000
DTSTAMP:20260423T190412
CREATED:20260311T134356Z
LAST-MODIFIED:20260311T134356Z
UID:102018-1787331600-1787346000@ottawadowntownassociation.org
SUMMARY:Ottawa's Third Friday-August
DESCRIPTION:Ottawa’s Third Friday in Downtown Ottawa\, Illinois\nDates: May 15\, June 19\, July 17\, August 21\, and September 18\nLocation: Madison Street\, Downtown Ottawa\, Illinois\nCreate memories that last a lifetime at Third Friday in downtown Ottawa\, Illinois\, a lively monthly street festival celebrating local makers\, music\, and community. Held on Madison Street in the heart of historic downtown Ottawa\, Third Friday brings together artisans\, musicians\, small businesses\, and families for a fun\, relaxed night out. \nEach month features a rotating lineup of local makers and artists\, live music\, hands-on crafts\, family-friendly activities\, and pop-up experiences from downtown businesses. Stroll the street market\, discover handmade goods\, enjoy live entertainment\, and connect with the creative spirit that makes Ottawa\, Illinois such a vibrant destination. \nWhether you’re looking for a unique handmade gift\, a fun outing with the kids\, or a reason to explore downtown Ottawa shops\, restaurants\, and galleries\, Third Friday is the perfect way to kick off your weekend. \nCome experience the energy of Downtown Ottawa\, Illinois events and support local artists\, makers\, and small businesses all summer long. \nAdmission: Free
URL:https://ottawadowntownassociation.org/event/ottawas-third-friday-august/
LOCATION:Downtown Ottawa
CATEGORIES:Downtown Event,Kid-Friendly,Shopping
ATTACH;FMTTYPE=image/webp:https://ottawadowntownassociation.org/wp-content/uploads/2026/03/third-friday.webp
END:VEVENT
END:VCALENDAR