BEGIN:VCALENDAR
VERSION:2.0
PRODID:-//Ottawa Downtown Association - ECPv6.15.20//NONSGML v1.0//EN
CALSCALE:GREGORIAN
METHOD:PUBLISH
X-ORIGINAL-URL:https://ottawadowntownassociation.org
X-WR-CALDESC:Events for Ottawa Downtown Association
REFRESH-INTERVAL;VALUE=DURATION:PT1H
X-Robots-Tag:noindex
X-PUBLISHED-TTL:PT1H
BEGIN:VTIMEZONE
TZID:America/Chicago
BEGIN:DAYLIGHT
TZOFFSETFROM:-0600
TZOFFSETTO:-0500
TZNAME:CDT
DTSTART:20250309T080000
END:DAYLIGHT
BEGIN:STANDARD
TZOFFSETFROM:-0500
TZOFFSETTO:-0600
TZNAME:CST
DTSTART:20251102T070000
END:STANDARD
BEGIN:DAYLIGHT
TZOFFSETFROM:-0600
TZOFFSETTO:-0500
TZNAME:CDT
DTSTART:20260308T080000
END:DAYLIGHT
BEGIN:STANDARD
TZOFFSETFROM:-0500
TZOFFSETTO:-0600
TZNAME:CST
DTSTART:20261101T070000
END:STANDARD
BEGIN:DAYLIGHT
TZOFFSETFROM:-0600
TZOFFSETTO:-0500
TZNAME:CDT
DTSTART:20270314T080000
END:DAYLIGHT
BEGIN:STANDARD
TZOFFSETFROM:-0500
TZOFFSETTO:-0600
TZNAME:CST
DTSTART:20271107T070000
END:STANDARD
END:VTIMEZONE
BEGIN:VEVENT
DTSTART;TZID=America/Chicago:20260710T200000
DTEND;TZID=America/Chicago:20260710T220000
DTSTAMP:20260423T174718
CREATED:20260309T205529Z
LAST-MODIFIED:20260309T205529Z
UID:101992-1783713600-1783720800@ottawadowntownassociation.org
SUMMARY:Jordan Block Jams Presents: Sarah's Place
DESCRIPTION: Exciting News!  Our Jordan Block Jams Summer Series kicks off with Sarah’s Place! Join us for an unforgettable night of music and fun! \n\n Date: July 10 Time: 8-10 PM Location: Jordan Block\, 101 W Main St.\n\nSarah’s Place- A Zach Bryan and Noah Kahan Tribute\nFrom Zach Bryan’s rustic\, Americana vibes to Noah Kahan’s indie folk charm – Sarah’s Place recreates their powerful and poignant songs with authenticity and passion … Brought to you by members of American Pie Chicago!\n\nBring your friends\, family\, and neighbors for a fantastic evening of live music and community vibes. Plus\, admission is FREE!  Don’t forget your lawn chairs or blankets!
URL:https://ottawadowntownassociation.org/event/jordan-block-jams-presents-sarahs-place/
LOCATION:Jordan Block\, 101-123 W Main St\,\, Ottawa\, IL\, 61350\, United States
CATEGORIES:Music in the Park
ATTACH;FMTTYPE=image/webp:https://ottawadowntownassociation.org/wp-content/uploads/2026/03/sarahs-place.webp
END:VEVENT
END:VCALENDAR