BEGIN:VCALENDAR
VERSION:2.0
PRODID:-//Ottawa Downtown Association - ECPv6.15.20//NONSGML v1.0//EN
CALSCALE:GREGORIAN
METHOD:PUBLISH
X-ORIGINAL-URL:https://ottawadowntownassociation.org
X-WR-CALDESC:Events for Ottawa Downtown Association
REFRESH-INTERVAL;VALUE=DURATION:PT1H
X-Robots-Tag:noindex
X-PUBLISHED-TTL:PT1H
BEGIN:VTIMEZONE
TZID:America/Chicago
BEGIN:DAYLIGHT
TZOFFSETFROM:-0600
TZOFFSETTO:-0500
TZNAME:CDT
DTSTART:20250309T080000
END:DAYLIGHT
BEGIN:STANDARD
TZOFFSETFROM:-0500
TZOFFSETTO:-0600
TZNAME:CST
DTSTART:20251102T070000
END:STANDARD
BEGIN:DAYLIGHT
TZOFFSETFROM:-0600
TZOFFSETTO:-0500
TZNAME:CDT
DTSTART:20260308T080000
END:DAYLIGHT
BEGIN:STANDARD
TZOFFSETFROM:-0500
TZOFFSETTO:-0600
TZNAME:CST
DTSTART:20261101T070000
END:STANDARD
BEGIN:DAYLIGHT
TZOFFSETFROM:-0600
TZOFFSETTO:-0500
TZNAME:CDT
DTSTART:20270314T080000
END:DAYLIGHT
BEGIN:STANDARD
TZOFFSETFROM:-0500
TZOFFSETTO:-0600
TZNAME:CST
DTSTART:20271107T070000
END:STANDARD
END:VTIMEZONE
BEGIN:VEVENT
DTSTART;TZID=America/Chicago:20260502T073000
DTEND;TZID=America/Chicago:20260502T123000
DTSTAMP:20260423T140255
CREATED:20260105T135239Z
LAST-MODIFIED:20260422T134918Z
UID:101861-1777707000-1777725000@ottawadowntownassociation.org
SUMMARY:Tom Nauman Memorial Midwest Morel Fest & Burger Bash
DESCRIPTION:In loving memory of Tom Nauman—our founding father from Morel Mania—this event exists because of his passion and vision. Without Tom\, none of this would be possible. \nJoin us at Washington Square Park\, where you can shop and peruse a large Botanical Market and Morel Market featuring everything… You guessed it… MUSHROOMS! We’ll even host MOREL UNIVERSITY\, where you’ll learn to identify morels\, so you know exactly what to look for on your guided hunt. (Please note: The educational hunt has limited availability.) \nSchedule: \n\n7:30 am: Hunt and Morel Market sign-in\n8-8:30 am: Morel University\n8:45 am: Busses depart for guided hunt\n9 am-3 pm: Morel Market – morel mushrooms only\n8 am-3 pm: Vendor Market\n9 am-11:30 am: Guided Hunt\n12:30 pm: Awards\n\n 
URL:https://ottawadowntownassociation.org/event/tom-nauman-memorial-midwest-morel-fest-burger-bash/
LOCATION:Washington Square Park\, 101 E Lafayette St\, Ottawa\, Illinois
CATEGORIES:Downtown Event
ATTACH;FMTTYPE=image/webp:https://ottawadowntownassociation.org/wp-content/uploads/2026/01/MorelFest-Poster-scaled-1.webp
END:VEVENT
BEGIN:VEVENT
DTSTART;TZID=America/Chicago:20260509T060000
DTEND;TZID=America/Chicago:20260509T140000
DTSTAMP:20260423T140255
CREATED:20260309T212606Z
LAST-MODIFIED:20260309T212606Z
UID:102005-1778306400-1778335200@ottawadowntownassociation.org
SUMMARY:Starved Rock Country Marathon
DESCRIPTION:The 2026 Starved Rock Country Marathon\, Half-Marathon\, 10K\, and 5k are a “must-do” event for runners in central Illinois and beyond. These races blend challenging courses with awe-inspiring scenery\, making them an annual favorite in the running community.\n\nRace Date: May 9\, 2026\n\nRegister online at https://runsignup.com/Race/il/starvedrockcountrymarathon
URL:https://ottawadowntownassociation.org/event/starved-rock-country-marathon-3/
LOCATION:Downtown Ottawa
CATEGORIES:Downtown Event
ATTACH;FMTTYPE=image/webp:https://ottawadowntownassociation.org/wp-content/uploads/2026/03/SRC-Marathon-Ad-2026-2.webp
END:VEVENT
BEGIN:VEVENT
DTSTART;TZID=America/Chicago:20260515T170000
DTEND;TZID=America/Chicago:20260515T210000
DTSTAMP:20260423T140255
CREATED:20260311T133947Z
LAST-MODIFIED:20260311T133947Z
UID:102011-1778864400-1778878800@ottawadowntownassociation.org
SUMMARY:Ottawa's Third Friday-May
DESCRIPTION:Ottawa’s Third Friday in Downtown Ottawa\, Illinois\nDates: May 15\, June 19\, July 17\, August 21\, and September 18Location: Madison Street\, Downtown Ottawa\, Illinois\nCreate memories that last a lifetime at Third Friday in downtown Ottawa\, Illinois\, a lively monthly street festival celebrating local makers\, music\, and community. Held on Madison Street in the heart of historic downtown Ottawa\, Third Friday brings together artisans\, musicians\, small businesses\, and families for a fun\, relaxed night out. \nEach month features a rotating lineup of local makers and artists\, live music\, hands-on crafts\, family-friendly activities\, and pop-up experiences from downtown businesses. Stroll the street market\, discover handmade goods\, enjoy live entertainment\, and connect with the creative spirit that makes Ottawa\, Illinois such a vibrant destination. \nWhether you’re looking for a unique handmade gift\, a fun outing with the kids\, or a reason to explore downtown Ottawa shops\, restaurants\, and galleries\, Third Friday is the perfect way to kick off your weekend. \nCome experience the energy of Downtown Ottawa\, Illinois events and support local artists\, makers\, and small businesses all summer long. \nAdmission: Free
URL:https://ottawadowntownassociation.org/event/ottawas-third-friday-may/
LOCATION:Downtown Ottawa
ATTACH;FMTTYPE=image/webp:https://ottawadowntownassociation.org/wp-content/uploads/2026/03/third-friday.webp
END:VEVENT
BEGIN:VEVENT
DTSTART;TZID=America/Chicago:20260523T070000
DTEND;TZID=America/Chicago:20260523T120000
DTSTAMP:20260423T140255
CREATED:20260121T194558Z
LAST-MODIFIED:20260121T194558Z
UID:101919-1779519600-1779537600@ottawadowntownassociation.org
SUMMARY:Cars and Coffee
DESCRIPTION:Join the LaSalle County Cruisers for Cars and Coffee on May 23 from 7 a.m. to noon at the old Central School Lot in Downtown Ottawa. More information coming soon!
URL:https://ottawadowntownassociation.org/event/cars-and-coffee/
LOCATION:Old Central School Lot\, 400 Clinton St\, Ottawa\, Illioins
CATEGORIES:Downtown Event,Kid-Friendly
END:VEVENT
BEGIN:VEVENT
DTSTART;TZID=America/Chicago:20260530T080000
DTEND;TZID=America/Chicago:20260530T123000
DTSTAMP:20260423T140255
CREATED:20260311T135058Z
LAST-MODIFIED:20260311T135058Z
UID:102022-1780128000-1780144200@ottawadowntownassociation.org
SUMMARY:Ottawa Farmers and Makers Market
DESCRIPTION:The Ottawa Area Farmers & Makers Market is returning this season\, and we couldn’t be more excited! Join us every Saturday from 8:00 AM – 12:30 PM\, May 30th through October 17th\, at 100 W. Jackson St.Our market is more than just fresh produce — it’s a celebration of local farmers\, talented makers\, and the incredible small businesses that keep our community thriving. From garden-fresh vegetables to homemade goods\, there’s something for everyone.
URL:https://ottawadowntownassociation.org/event/ottawa-farmers-and-makers-market-6/
LOCATION:Jackson Street\, 100 W Jackson Street\, Ottawa\, IL\, 61350\, United States
CATEGORIES:Downtown Event,Shopping
ATTACH;FMTTYPE=image/webp:https://ottawadowntownassociation.org/wp-content/uploads/2026/03/farmers-market.webp
END:VEVENT
END:VCALENDAR