BEGIN:VCALENDAR
VERSION:2.0
PRODID:-//Ottawa Downtown Association - ECPv6.15.20//NONSGML v1.0//EN
CALSCALE:GREGORIAN
METHOD:PUBLISH
X-WR-CALNAME:Ottawa Downtown Association
X-ORIGINAL-URL:https://ottawadowntownassociation.org
X-WR-CALDESC:Events for Ottawa Downtown Association
REFRESH-INTERVAL;VALUE=DURATION:PT1H
X-Robots-Tag:noindex
X-PUBLISHED-TTL:PT1H
BEGIN:VTIMEZONE
TZID:America/Chicago
BEGIN:DAYLIGHT
TZOFFSETFROM:-0600
TZOFFSETTO:-0500
TZNAME:CDT
DTSTART:20250309T080000
END:DAYLIGHT
BEGIN:STANDARD
TZOFFSETFROM:-0500
TZOFFSETTO:-0600
TZNAME:CST
DTSTART:20251102T070000
END:STANDARD
BEGIN:DAYLIGHT
TZOFFSETFROM:-0600
TZOFFSETTO:-0500
TZNAME:CDT
DTSTART:20260308T080000
END:DAYLIGHT
BEGIN:STANDARD
TZOFFSETFROM:-0500
TZOFFSETTO:-0600
TZNAME:CST
DTSTART:20261101T070000
END:STANDARD
BEGIN:DAYLIGHT
TZOFFSETFROM:-0600
TZOFFSETTO:-0500
TZNAME:CDT
DTSTART:20270314T080000
END:DAYLIGHT
BEGIN:STANDARD
TZOFFSETFROM:-0500
TZOFFSETTO:-0600
TZNAME:CST
DTSTART:20271107T070000
END:STANDARD
END:VTIMEZONE
BEGIN:VEVENT
DTSTART;TZID=America/Chicago:20260509T060000
DTEND;TZID=America/Chicago:20260509T140000
DTSTAMP:20260423T153146
CREATED:20260309T212606Z
LAST-MODIFIED:20260309T212606Z
UID:102005-1778306400-1778335200@ottawadowntownassociation.org
SUMMARY:Starved Rock Country Marathon
DESCRIPTION:The 2026 Starved Rock Country Marathon\, Half-Marathon\, 10K\, and 5k are a “must-do” event for runners in central Illinois and beyond. These races blend challenging courses with awe-inspiring scenery\, making them an annual favorite in the running community.\n\nRace Date: May 9\, 2026\n\nRegister online at https://runsignup.com/Race/il/starvedrockcountrymarathon
URL:https://ottawadowntownassociation.org/event/starved-rock-country-marathon-3/
LOCATION:Downtown Ottawa
CATEGORIES:Downtown Event
ATTACH;FMTTYPE=image/webp:https://ottawadowntownassociation.org/wp-content/uploads/2026/03/SRC-Marathon-Ad-2026-2.webp
END:VEVENT
END:VCALENDAR