BEGIN:VCALENDAR
VERSION:2.0
PRODID:-//Ottawa Downtown Association - ECPv6.15.20//NONSGML v1.0//EN
CALSCALE:GREGORIAN
METHOD:PUBLISH
X-WR-CALNAME:Ottawa Downtown Association
X-ORIGINAL-URL:https://ottawadowntownassociation.org
X-WR-CALDESC:Events for Ottawa Downtown Association
REFRESH-INTERVAL;VALUE=DURATION:PT1H
X-Robots-Tag:noindex
X-PUBLISHED-TTL:PT1H
BEGIN:VTIMEZONE
TZID:America/Chicago
BEGIN:DAYLIGHT
TZOFFSETFROM:-0600
TZOFFSETTO:-0500
TZNAME:CDT
DTSTART:20250309T080000
END:DAYLIGHT
BEGIN:STANDARD
TZOFFSETFROM:-0500
TZOFFSETTO:-0600
TZNAME:CST
DTSTART:20251102T070000
END:STANDARD
BEGIN:DAYLIGHT
TZOFFSETFROM:-0600
TZOFFSETTO:-0500
TZNAME:CDT
DTSTART:20260308T080000
END:DAYLIGHT
BEGIN:STANDARD
TZOFFSETFROM:-0500
TZOFFSETTO:-0600
TZNAME:CST
DTSTART:20261101T070000
END:STANDARD
BEGIN:DAYLIGHT
TZOFFSETFROM:-0600
TZOFFSETTO:-0500
TZNAME:CDT
DTSTART:20270314T080000
END:DAYLIGHT
BEGIN:STANDARD
TZOFFSETFROM:-0500
TZOFFSETTO:-0600
TZNAME:CST
DTSTART:20271107T070000
END:STANDARD
END:VTIMEZONE
BEGIN:VEVENT
DTSTART;TZID=America/Chicago:20260502T073000
DTEND;TZID=America/Chicago:20260502T123000
DTSTAMP:20260423T140139
CREATED:20260105T135239Z
LAST-MODIFIED:20260422T134918Z
UID:101861-1777707000-1777725000@ottawadowntownassociation.org
SUMMARY:Tom Nauman Memorial Midwest Morel Fest & Burger Bash
DESCRIPTION:In loving memory of Tom Nauman—our founding father from Morel Mania—this event exists because of his passion and vision. Without Tom\, none of this would be possible. \nJoin us at Washington Square Park\, where you can shop and peruse a large Botanical Market and Morel Market featuring everything… You guessed it… MUSHROOMS! We’ll even host MOREL UNIVERSITY\, where you’ll learn to identify morels\, so you know exactly what to look for on your guided hunt. (Please note: The educational hunt has limited availability.) \nSchedule: \n\n7:30 am: Hunt and Morel Market sign-in\n8-8:30 am: Morel University\n8:45 am: Busses depart for guided hunt\n9 am-3 pm: Morel Market – morel mushrooms only\n8 am-3 pm: Vendor Market\n9 am-11:30 am: Guided Hunt\n12:30 pm: Awards\n\n 
URL:https://ottawadowntownassociation.org/event/tom-nauman-memorial-midwest-morel-fest-burger-bash/
LOCATION:Washington Square Park\, 101 E Lafayette St\, Ottawa\, Illinois
CATEGORIES:Downtown Event
ATTACH;FMTTYPE=image/webp:https://ottawadowntownassociation.org/wp-content/uploads/2026/01/MorelFest-Poster-scaled-1.webp
END:VEVENT
END:VCALENDAR