BEGIN:VCALENDAR
VERSION:2.0
PRODID:-//Ottawa Downtown Association - ECPv6.15.20//NONSGML v1.0//EN
CALSCALE:GREGORIAN
METHOD:PUBLISH
X-ORIGINAL-URL:https://ottawadowntownassociation.org
X-WR-CALDESC:Events for Ottawa Downtown Association
REFRESH-INTERVAL;VALUE=DURATION:PT1H
X-Robots-Tag:noindex
X-PUBLISHED-TTL:PT1H
BEGIN:VTIMEZONE
TZID:America/Chicago
BEGIN:DAYLIGHT
TZOFFSETFROM:-0600
TZOFFSETTO:-0500
TZNAME:CDT
DTSTART:20250309T080000
END:DAYLIGHT
BEGIN:STANDARD
TZOFFSETFROM:-0500
TZOFFSETTO:-0600
TZNAME:CST
DTSTART:20251102T070000
END:STANDARD
BEGIN:DAYLIGHT
TZOFFSETFROM:-0600
TZOFFSETTO:-0500
TZNAME:CDT
DTSTART:20260308T080000
END:DAYLIGHT
BEGIN:STANDARD
TZOFFSETFROM:-0500
TZOFFSETTO:-0600
TZNAME:CST
DTSTART:20261101T070000
END:STANDARD
BEGIN:DAYLIGHT
TZOFFSETFROM:-0600
TZOFFSETTO:-0500
TZNAME:CDT
DTSTART:20270314T080000
END:DAYLIGHT
BEGIN:STANDARD
TZOFFSETFROM:-0500
TZOFFSETTO:-0600
TZNAME:CST
DTSTART:20271107T070000
END:STANDARD
END:VTIMEZONE
BEGIN:VEVENT
DTSTART;VALUE=DATE:20260309
DTEND;VALUE=DATE:20260322
DTSTAMP:20260423T153338
CREATED:20260309T210047Z
LAST-MODIFIED:20260309T210047Z
UID:101998-1773014400-1774137599@ottawadowntownassociation.org
SUMMARY:Restaurant Week
DESCRIPTION:Don’t forget to pick up your Restaurant Week Passport at the Ottawa Visitors Center before the festivities begin. During Restaurant Weeks\, collect a stamp at each participating location you visit\, the more stamps you earn\, the better your chances of winning!This year’s Restaurant Week drawing prize is now over $200 in gift cardsOnce you’ve collected your stamps\, simply return your passport to the Visitors Center. You’ll receive one entry ticket for every stamp collected to place in the drawing.Start planning those dining stops\, we can’t wait to see you out enjoying Restaurant Weeks!
URL:https://ottawadowntownassociation.org/event/restaurant-week/
LOCATION:Downtown Ottawa
CATEGORIES:Downtown Businesses
ATTACH;FMTTYPE=image/webp:https://ottawadowntownassociation.org/wp-content/uploads/2026/03/restuarant-week.webp
END:VEVENT
BEGIN:VEVENT
DTSTART;TZID=America/Chicago:20260311T170000
DTEND;TZID=America/Chicago:20260311T210000
DTSTAMP:20260423T153338
CREATED:20260309T181023Z
LAST-MODIFIED:20260309T181023Z
UID:101953-1773248400-1773262800@ottawadowntownassociation.org
SUMMARY:Pack the Place at the Lone Buffalo!
DESCRIPTION:Join us for a Pack the Place fundraising night supporting the Ottawa Downtown Association!\n\nOn March 11\, The Lone Buffalo will donate 10% of all sales from 5–9 PM to the Ottawa Downtown Association\, an organization dedicated to supporting local businesses\, events\, and the continued growth of downtown Ottawa.\n\nEnjoy great food\, craft beer\, and community while giving back to the heart of our city.\n\n The Lone Buffalo March 11 5:00–9:00 PM 10% of sales donated to the Ottawa Downtown Association\n\nNo tickets required—just stop by\, dine in\, and help us pack the place for downtown Ottawa!
URL:https://ottawadowntownassociation.org/event/pack-the-place-at-the-lone-buffalo/
LOCATION:The Lone Buffalo\, 808 - 812 LaSalle St.\, Ottawa\, IL\, 61350\, United States
CATEGORIES:Fundraising
ATTACH;FMTTYPE=image/webp:https://ottawadowntownassociation.org/wp-content/uploads/2026/03/pack-the-place.webp
ORGANIZER;CN="the Lone Buffalo":MAILTO:marketing@trbevco.com
END:VEVENT
END:VCALENDAR