BEGIN:VCALENDAR
VERSION:2.0
PRODID:-//Ottawa Downtown Association - ECPv6.15.20//NONSGML v1.0//EN
CALSCALE:GREGORIAN
METHOD:PUBLISH
X-ORIGINAL-URL:https://ottawadowntownassociation.org
X-WR-CALDESC:Events for Ottawa Downtown Association
REFRESH-INTERVAL;VALUE=DURATION:PT1H
X-Robots-Tag:noindex
X-PUBLISHED-TTL:PT1H
BEGIN:VTIMEZONE
TZID:America/Chicago
BEGIN:DAYLIGHT
TZOFFSETFROM:-0600
TZOFFSETTO:-0500
TZNAME:CDT
DTSTART:20250309T080000
END:DAYLIGHT
BEGIN:STANDARD
TZOFFSETFROM:-0500
TZOFFSETTO:-0600
TZNAME:CST
DTSTART:20251102T070000
END:STANDARD
BEGIN:DAYLIGHT
TZOFFSETFROM:-0600
TZOFFSETTO:-0500
TZNAME:CDT
DTSTART:20260308T080000
END:DAYLIGHT
BEGIN:STANDARD
TZOFFSETFROM:-0500
TZOFFSETTO:-0600
TZNAME:CST
DTSTART:20261101T070000
END:STANDARD
BEGIN:DAYLIGHT
TZOFFSETFROM:-0600
TZOFFSETTO:-0500
TZNAME:CDT
DTSTART:20270314T080000
END:DAYLIGHT
BEGIN:STANDARD
TZOFFSETFROM:-0500
TZOFFSETTO:-0600
TZNAME:CST
DTSTART:20271107T070000
END:STANDARD
END:VTIMEZONE
BEGIN:VEVENT
DTSTART;VALUE=DATE:20260228
DTEND;VALUE=DATE:20260301
DTSTAMP:20260423T152851
CREATED:20260105T140152Z
LAST-MODIFIED:20260105T140226Z
UID:101864-1772236800-1772323199@ottawadowntownassociation.org
SUMMARY:Coldest Night of the Year
DESCRIPTION:Walk + Fundraise February 28\, 2026\nThe Coldest Night of the Year (CNOY) is a family-friendly winter walk that raises vital funds for local organizations serving people experiencing homelessness\, hunger\, and hardship.\nWhen you join CNOY\, you’re not just walking – you’re fundraising to help your neighbors find warmth\, safety\, and support. \nEach February\, thousands of people across the country step outside their comfort zone to show compassion and solidarity with those who are struggling in the cold. Your participation – and your fundraising – make a real difference in your community.
URL:https://ottawadowntownassociation.org/event/coldest-night-of-the-year/
LOCATION:Jordan  Block\, 101 W Main St\, Ottawa\, Illinois
CATEGORIES:Downtown Event,Fundraising,Kid-Friendly
ATTACH;FMTTYPE=image/png:https://ottawadowntownassociation.org/wp-content/uploads/2026/01/cnoy2026_logopo-scaled.png
ORGANIZER;CN="IV PADS":MAILTO:sallymvancura@gmail.com
END:VEVENT
END:VCALENDAR