BEGIN:VCALENDAR
VERSION:2.0
PRODID:-//Ottawa Downtown Association - ECPv6.15.20//NONSGML v1.0//EN
CALSCALE:GREGORIAN
METHOD:PUBLISH
X-WR-CALNAME:Ottawa Downtown Association
X-ORIGINAL-URL:https://ottawadowntownassociation.org
X-WR-CALDESC:Events for Ottawa Downtown Association
REFRESH-INTERVAL;VALUE=DURATION:PT1H
X-Robots-Tag:noindex
X-PUBLISHED-TTL:PT1H
BEGIN:VTIMEZONE
TZID:America/Chicago
BEGIN:DAYLIGHT
TZOFFSETFROM:-0600
TZOFFSETTO:-0500
TZNAME:CDT
DTSTART:20240310T080000
END:DAYLIGHT
BEGIN:STANDARD
TZOFFSETFROM:-0500
TZOFFSETTO:-0600
TZNAME:CST
DTSTART:20241103T070000
END:STANDARD
BEGIN:DAYLIGHT
TZOFFSETFROM:-0600
TZOFFSETTO:-0500
TZNAME:CDT
DTSTART:20250309T080000
END:DAYLIGHT
BEGIN:STANDARD
TZOFFSETFROM:-0500
TZOFFSETTO:-0600
TZNAME:CST
DTSTART:20251102T070000
END:STANDARD
BEGIN:DAYLIGHT
TZOFFSETFROM:-0600
TZOFFSETTO:-0500
TZNAME:CDT
DTSTART:20260308T080000
END:DAYLIGHT
BEGIN:STANDARD
TZOFFSETFROM:-0500
TZOFFSETTO:-0600
TZNAME:CST
DTSTART:20261101T070000
END:STANDARD
END:VTIMEZONE
BEGIN:VEVENT
DTSTART;TZID=America/Chicago:20251128T120000
DTEND;TZID=America/Chicago:20251221T160000
DTSTAMP:20260423T190443
CREATED:20251111T164036Z
LAST-MODIFIED:20251111T164036Z
UID:101833-1764331200-1766332800@ottawadowntownassociation.org
SUMMARY:Ottawa Chris Kringle Market
DESCRIPTION:Holiday traditions start here! \nJoin us under the glistening lights of historic downtown Ottawa\, Illinois for the Chris Kringle Market. This open-air holiday market features nearly 100 small makers\, bakers\, and artisans\, family-friendly activities\, Santa\, and so much more! Mark your calendar and plan your trip to the Ottawa Chris Kringle Market. \nOpening Day: Friday\, Nov. 28. Special extended hours: Noon-7 pm \nRegular Hours:\nFridays: 4-8 pm\nSaturdays: 11 am-7 pm\nSundays: 11 am-4 pm \nThe market runs Friday\, Nov. 28-Sunday\, Dec. 21 in downtown Ottawa\, Illinois.
URL:https://ottawadowntownassociation.org/event/ottawa-chris-kringle-market/
LOCATION:Downtown Ottawa
CATEGORIES:Downtown Event,Holidays,Kid-Friendly,Shopping
ATTACH;FMTTYPE=image/webp:https://ottawadowntownassociation.org/wp-content/uploads/2025/11/fb-cover-01-scaled.webp
ORGANIZER;CN="Ottawa Chris Kringle Market":MAILTO:hello@chriskringlemarket.com
END:VEVENT
BEGIN:VEVENT
DTSTART;TZID=America/Chicago:20251220T110000
DTEND;TZID=America/Chicago:20251220T190000
DTSTAMP:20260423T190443
CREATED:20251111T170536Z
LAST-MODIFIED:20251111T170557Z
UID:101853-1766228400-1766257200@ottawadowntownassociation.org
SUMMARY:Plaid-urday!
DESCRIPTION:Pull out your plaid and join the fun!\n\nSaturday\, December 20\, is Plaidurday at the Chris Kringle Market — a community day dedicated to flannel\, fun\, and festive spirit. Come cozy and colorful as you stroll the market\, shop local vendors\, and enjoy Christmas ambiance on every corner!\n\nLet’s make downtown Ottawa plaid and proud this holiday season!
URL:https://ottawadowntownassociation.org/event/plaid-urday/
LOCATION:Downtown Ottawa
CATEGORIES:Downtown Event,Holidays,Kid-Friendly
ATTACH;FMTTYPE=image/webp:https://ottawadowntownassociation.org/wp-content/uploads/2025/11/plaidurday-scaled.webp
ORGANIZER;CN="Ottawa Chris Kringle Market":MAILTO:hello@chriskringlemarket.com
END:VEVENT
END:VCALENDAR