BEGIN:VCALENDAR
VERSION:2.0
PRODID:-//Ottawa Downtown Association - ECPv6.15.20//NONSGML v1.0//EN
CALSCALE:GREGORIAN
METHOD:PUBLISH
X-ORIGINAL-URL:https://ottawadowntownassociation.org
X-WR-CALDESC:Events for Ottawa Downtown Association
REFRESH-INTERVAL;VALUE=DURATION:PT1H
X-Robots-Tag:noindex
X-PUBLISHED-TTL:PT1H
BEGIN:VTIMEZONE
TZID:America/Chicago
BEGIN:DAYLIGHT
TZOFFSETFROM:-0600
TZOFFSETTO:-0500
TZNAME:CDT
DTSTART:20240310T080000
END:DAYLIGHT
BEGIN:STANDARD
TZOFFSETFROM:-0500
TZOFFSETTO:-0600
TZNAME:CST
DTSTART:20241103T070000
END:STANDARD
BEGIN:DAYLIGHT
TZOFFSETFROM:-0600
TZOFFSETTO:-0500
TZNAME:CDT
DTSTART:20250309T080000
END:DAYLIGHT
BEGIN:STANDARD
TZOFFSETFROM:-0500
TZOFFSETTO:-0600
TZNAME:CST
DTSTART:20251102T070000
END:STANDARD
BEGIN:DAYLIGHT
TZOFFSETFROM:-0600
TZOFFSETTO:-0500
TZNAME:CDT
DTSTART:20260308T080000
END:DAYLIGHT
BEGIN:STANDARD
TZOFFSETFROM:-0500
TZOFFSETTO:-0600
TZNAME:CST
DTSTART:20261101T070000
END:STANDARD
END:VTIMEZONE
BEGIN:VEVENT
DTSTART;VALUE=DATE:20251107
DTEND;VALUE=DATE:20251122
DTSTAMP:20260423T201435
CREATED:20250821T160354Z
LAST-MODIFIED:20250821T160354Z
UID:101799-1762473600-1763769599@ottawadowntownassociation.org
SUMMARY:Exploreum Sparkle Spectactular
DESCRIPTION: Exploreum Sparkle Spectacular A Tree Auction Fundraiser for the Ottawa Exploreum Children’s Museum\n Jeremiah Joe Coffee – 807 LaSalle Street\, Ottawa\, IL Starts: Thursday\, November 7\, 2025 Kickoff: 5:00 PM Bidding closes: Thursday\, November 21\, 2025\n\nGet ready to step into a holiday wonderland at the Exploreum Sparkle Spectacular—a festive fundraiser benefiting the future Exploreum Children’s Museum in Ottawa! Wander through a whimsical display of fully decorated\, themed Christmas trees created. Then\, bid to bring one home!\n\n What’s in store: Dozens of stunning\, one-of-a-kind trees Festive music and cozy vibes Picture-perfect photo ops Delicious drinks & treats Bidding is silent and open through November 21—highest bid wins!\n\nAll proceeds go directly to helping us build the Exploreum—a hands-on\, play-based children’s museum in the heart of Ottawa.\n\n Come sip\, stroll\, and support something TreeMendous
URL:https://ottawadowntownassociation.org/event/exploreum-sparkle-spectactular/
LOCATION:Jeremiah Joe Coffee-Downtown Ottawa\, 807 La Salle St\, Ottawa\, IL\, 61350\, United States
CATEGORIES:Fundraising,Holidays
ATTACH;FMTTYPE=image/webp:https://ottawadowntownassociation.org/wp-content/uploads/2025/08/exploreum-sparkle-spectacular.webp
ORGANIZER;CN="Ottawa Exploreum":MAILTO:Admin@Ottawaexploreum.com
END:VEVENT
END:VCALENDAR