BEGIN:VCALENDAR
VERSION:2.0
PRODID:-//Ottawa Downtown Association - ECPv6.15.20//NONSGML v1.0//EN
CALSCALE:GREGORIAN
METHOD:PUBLISH
X-WR-CALNAME:Ottawa Downtown Association
X-ORIGINAL-URL:https://ottawadowntownassociation.org
X-WR-CALDESC:Events for Ottawa Downtown Association
REFRESH-INTERVAL;VALUE=DURATION:PT1H
X-Robots-Tag:noindex
X-PUBLISHED-TTL:PT1H
BEGIN:VTIMEZONE
TZID:America/Chicago
BEGIN:DAYLIGHT
TZOFFSETFROM:-0600
TZOFFSETTO:-0500
TZNAME:CDT
DTSTART:20240310T080000
END:DAYLIGHT
BEGIN:STANDARD
TZOFFSETFROM:-0500
TZOFFSETTO:-0600
TZNAME:CST
DTSTART:20241103T070000
END:STANDARD
BEGIN:DAYLIGHT
TZOFFSETFROM:-0600
TZOFFSETTO:-0500
TZNAME:CDT
DTSTART:20250309T080000
END:DAYLIGHT
BEGIN:STANDARD
TZOFFSETFROM:-0500
TZOFFSETTO:-0600
TZNAME:CST
DTSTART:20251102T070000
END:STANDARD
BEGIN:DAYLIGHT
TZOFFSETFROM:-0600
TZOFFSETTO:-0500
TZNAME:CDT
DTSTART:20260308T080000
END:DAYLIGHT
BEGIN:STANDARD
TZOFFSETFROM:-0500
TZOFFSETTO:-0600
TZNAME:CST
DTSTART:20261101T070000
END:STANDARD
END:VTIMEZONE
BEGIN:VEVENT
DTSTART;TZID=America/Chicago:20250831T120000
DTEND;TZID=America/Chicago:20250831T210000
DTSTAMP:20260423T235939
CREATED:20250728T154523Z
LAST-MODIFIED:20250728T154523Z
UID:101714-1756641600-1756674000@ottawadowntownassociation.org
SUMMARY:Court Street Pub's Block Party
DESCRIPTION: It’s BACK…Labor Day Block Party 2025 \n Save the Date: Sunday\, August 31st\, 2025\n\nWe’re shutting down the block for a full day of fun you won’t want to miss!\n Live Music kicks off at 12 PM Bags Tournament starts at 1 PM Local vendors & kid-friendly activities all day Outdoor bar serving up ice-cold drinks Restaurant will be open and serving food to keep you fueled all day long!\n\nCome for the fun\, stay for the party – it’s the ultimate way to wrap up summer!
URL:https://ottawadowntownassociation.org/event/court-street-pubs-block-party/
LOCATION:Court Street\, 2612 Cherie Lane\, OTTAWA\, IL\, 61350-1041\, United States
CATEGORIES:Downtown Businesses,Downtown Event,Holidays
ATTACH;FMTTYPE=image/webp:https://ottawadowntownassociation.org/wp-content/uploads/2025/07/517369910_1195633992577610_6850984138336166788_n.webp
END:VEVENT
END:VCALENDAR