BEGIN:VCALENDAR
VERSION:2.0
PRODID:-//Ottawa Downtown Association - ECPv6.15.20//NONSGML v1.0//EN
CALSCALE:GREGORIAN
METHOD:PUBLISH
X-ORIGINAL-URL:https://ottawadowntownassociation.org
X-WR-CALDESC:Events for Ottawa Downtown Association
REFRESH-INTERVAL;VALUE=DURATION:PT1H
X-Robots-Tag:noindex
X-PUBLISHED-TTL:PT1H
BEGIN:VTIMEZONE
TZID:America/Chicago
BEGIN:DAYLIGHT
TZOFFSETFROM:-0600
TZOFFSETTO:-0500
TZNAME:CDT
DTSTART:20240310T080000
END:DAYLIGHT
BEGIN:STANDARD
TZOFFSETFROM:-0500
TZOFFSETTO:-0600
TZNAME:CST
DTSTART:20241103T070000
END:STANDARD
BEGIN:DAYLIGHT
TZOFFSETFROM:-0600
TZOFFSETTO:-0500
TZNAME:CDT
DTSTART:20250309T080000
END:DAYLIGHT
BEGIN:STANDARD
TZOFFSETFROM:-0500
TZOFFSETTO:-0600
TZNAME:CST
DTSTART:20251102T070000
END:STANDARD
BEGIN:DAYLIGHT
TZOFFSETFROM:-0600
TZOFFSETTO:-0500
TZNAME:CDT
DTSTART:20260308T080000
END:DAYLIGHT
BEGIN:STANDARD
TZOFFSETFROM:-0500
TZOFFSETTO:-0600
TZNAME:CST
DTSTART:20261101T070000
END:STANDARD
END:VTIMEZONE
BEGIN:VEVENT
DTSTART;TZID=America/Chicago:20250816T090000
DTEND;TZID=America/Chicago:20250816T140000
DTSTAMP:20260424T000058
CREATED:20250521T224424Z
LAST-MODIFIED:20250521T224424Z
UID:101656-1755334800-1755352800@ottawadowntownassociation.org
SUMMARY:Wildflowers Market-August
DESCRIPTION:Come shop til you drop with our small business vendors. They’ll be all set up and ready for you to check out their crafts\, boutiques\, pieces of art\, jewelry and so much more! Food trucks will be available as well. This is a family event! We will have fun activities goingon  throughout the day.\nCome support our local businesses!
URL:https://ottawadowntownassociation.org/event/wildflowers-market-august/
LOCATION:Jordan Block\, 101-123 W Main St\,\, Ottawa\, IL\, 61350\, United States
CATEGORIES:Downtown Event,Kid-Friendly,Shopping
ATTACH;FMTTYPE=image/webp:https://ottawadowntownassociation.org/wp-content/uploads/2025/05/wildflowers.webp
END:VEVENT
END:VCALENDAR