BEGIN:VCALENDAR
VERSION:2.0
PRODID:-//Ottawa Downtown Association - ECPv6.15.20//NONSGML v1.0//EN
CALSCALE:GREGORIAN
METHOD:PUBLISH
X-ORIGINAL-URL:https://ottawadowntownassociation.org
X-WR-CALDESC:Events for Ottawa Downtown Association
REFRESH-INTERVAL;VALUE=DURATION:PT1H
X-Robots-Tag:noindex
X-PUBLISHED-TTL:PT1H
BEGIN:VTIMEZONE
TZID:America/Chicago
BEGIN:DAYLIGHT
TZOFFSETFROM:-0600
TZOFFSETTO:-0500
TZNAME:CDT
DTSTART:20240310T080000
END:DAYLIGHT
BEGIN:STANDARD
TZOFFSETFROM:-0500
TZOFFSETTO:-0600
TZNAME:CST
DTSTART:20241103T070000
END:STANDARD
BEGIN:DAYLIGHT
TZOFFSETFROM:-0600
TZOFFSETTO:-0500
TZNAME:CDT
DTSTART:20250309T080000
END:DAYLIGHT
BEGIN:STANDARD
TZOFFSETFROM:-0500
TZOFFSETTO:-0600
TZNAME:CST
DTSTART:20251102T070000
END:STANDARD
BEGIN:DAYLIGHT
TZOFFSETFROM:-0600
TZOFFSETTO:-0500
TZNAME:CDT
DTSTART:20260308T080000
END:DAYLIGHT
BEGIN:STANDARD
TZOFFSETFROM:-0500
TZOFFSETTO:-0600
TZNAME:CST
DTSTART:20261101T070000
END:STANDARD
END:VTIMEZONE
BEGIN:VEVENT
DTSTART;TZID=America/Chicago:20250805T170000
DTEND;TZID=America/Chicago:20250805T200000
DTSTAMP:20260424T000043
CREATED:20250728T155703Z
LAST-MODIFIED:20250728T155703Z
UID:101718-1754413200-1754424000@ottawadowntownassociation.org
SUMMARY:National Night Out
DESCRIPTION:Mark your Calendars!! Please join us this year for National Night Out!!\n\n\nFamily-friendly activities\, including bounce houses\, face painting\, games\, food\, and more! Hosted by the Ottawa Police Department\, Ottawa Fire Department\, and the LaSalle County Sheriff’s Department. \n\nIf you are interested in being a sponsor for this years fun\, please reach out to us!!
URL:https://ottawadowntownassociation.org/event/national-night-out/
LOCATION:Peck Park\, Ottawa\, IL\, 61350\, United States
CATEGORIES:Downtown Event,Kid-Friendly
ATTACH;FMTTYPE=image/webp:https://ottawadowntownassociation.org/wp-content/uploads/2025/07/514965540_1063587532542735_8357686198458108483_n.webp
END:VEVENT
END:VCALENDAR