BEGIN:VCALENDAR
VERSION:2.0
PRODID:-//Ottawa Downtown Association - ECPv6.15.20//NONSGML v1.0//EN
CALSCALE:GREGORIAN
METHOD:PUBLISH
X-WR-CALNAME:Ottawa Downtown Association
X-ORIGINAL-URL:https://ottawadowntownassociation.org
X-WR-CALDESC:Events for Ottawa Downtown Association
REFRESH-INTERVAL;VALUE=DURATION:PT1H
X-Robots-Tag:noindex
X-PUBLISHED-TTL:PT1H
BEGIN:VTIMEZONE
TZID:America/Chicago
BEGIN:DAYLIGHT
TZOFFSETFROM:-0600
TZOFFSETTO:-0500
TZNAME:CDT
DTSTART:20240310T080000
END:DAYLIGHT
BEGIN:STANDARD
TZOFFSETFROM:-0500
TZOFFSETTO:-0600
TZNAME:CST
DTSTART:20241103T070000
END:STANDARD
BEGIN:DAYLIGHT
TZOFFSETFROM:-0600
TZOFFSETTO:-0500
TZNAME:CDT
DTSTART:20250309T080000
END:DAYLIGHT
BEGIN:STANDARD
TZOFFSETFROM:-0500
TZOFFSETTO:-0600
TZNAME:CST
DTSTART:20251102T070000
END:STANDARD
BEGIN:DAYLIGHT
TZOFFSETFROM:-0600
TZOFFSETTO:-0500
TZNAME:CDT
DTSTART:20260308T080000
END:DAYLIGHT
BEGIN:STANDARD
TZOFFSETFROM:-0500
TZOFFSETTO:-0600
TZNAME:CST
DTSTART:20261101T070000
END:STANDARD
END:VTIMEZONE
BEGIN:VEVENT
DTSTART;TZID=America/Chicago:20250803T120000
DTEND;TZID=America/Chicago:20250803T170000
DTSTAMP:20260423T235937
CREATED:20250725T132915Z
LAST-MODIFIED:20250725T132915Z
UID:101689-1754222400-1754240400@ottawadowntownassociation.org
SUMMARY:Friendship Days FREE Pool Party
DESCRIPTION: Join Us for the Grand Finale of Friendship Days! \n\nThe City of Ottawa Special Events Committee is excited to close out our annual Friendship Days with a FREE Pool Party at Riordan Pool on Sunday\, August 3\, from 12–5 pm!\nEnjoy a live DJ setting the mood for an epic end-of-summer bash\, plus FREE entry\, FREE lunch (including pop\, water\, and pizza)\, and live entertainment for all ages. It’s fun for the whole family—don’t miss it!\n\n Riordan Pool | 500 E Norris Drive\, Ottawa\, IL\n Sunday\, August 3 |  12:00 PM – 5:00 PM\n\nCome make a splash with us and celebrate the season in style!
URL:https://ottawadowntownassociation.org/event/friendship-days-free-pool-party/
LOCATION:Riordan Pool\, 600 Utica Dr\,\, Ottawa\, IL\, 61350\, United States
CATEGORIES:Downtown Event,Kid-Friendly
ATTACH;FMTTYPE=image/webp:https://ottawadowntownassociation.org/wp-content/uploads/2025/07/517603935_1045445374406602_5175205208492803116_n.webp
END:VEVENT
END:VCALENDAR