BEGIN:VCALENDAR
VERSION:2.0
PRODID:-//Ottawa Downtown Association - ECPv6.15.20//NONSGML v1.0//EN
CALSCALE:GREGORIAN
METHOD:PUBLISH
X-ORIGINAL-URL:https://ottawadowntownassociation.org
X-WR-CALDESC:Events for Ottawa Downtown Association
REFRESH-INTERVAL;VALUE=DURATION:PT1H
X-Robots-Tag:noindex
X-PUBLISHED-TTL:PT1H
BEGIN:VTIMEZONE
TZID:America/Chicago
BEGIN:DAYLIGHT
TZOFFSETFROM:-0600
TZOFFSETTO:-0500
TZNAME:CDT
DTSTART:20240310T080000
END:DAYLIGHT
BEGIN:STANDARD
TZOFFSETFROM:-0500
TZOFFSETTO:-0600
TZNAME:CST
DTSTART:20241103T070000
END:STANDARD
BEGIN:DAYLIGHT
TZOFFSETFROM:-0600
TZOFFSETTO:-0500
TZNAME:CDT
DTSTART:20250309T080000
END:DAYLIGHT
BEGIN:STANDARD
TZOFFSETFROM:-0500
TZOFFSETTO:-0600
TZNAME:CST
DTSTART:20251102T070000
END:STANDARD
BEGIN:DAYLIGHT
TZOFFSETFROM:-0600
TZOFFSETTO:-0500
TZNAME:CDT
DTSTART:20260308T080000
END:DAYLIGHT
BEGIN:STANDARD
TZOFFSETFROM:-0500
TZOFFSETTO:-0600
TZNAME:CST
DTSTART:20261101T070000
END:STANDARD
END:VTIMEZONE
BEGIN:VEVENT
DTSTART;VALUE=DATE:20250731
DTEND;VALUE=DATE:20250803
DTSTAMP:20260424T000047
CREATED:20250725T131228Z
LAST-MODIFIED:20250725T131228Z
UID:101675-1753920000-1754179199@ottawadowntownassociation.org
SUMMARY:Downtown Ottawa Sidewalk Sales
DESCRIPTION:Get ready for three days of shopping\, sunshine\, and unbeatable deals during Downtown Ottawa’s Annual Sidewalk Sales! From Thursday\, July 31 to Saturday\, August 2\, our charming downtown comes alive with open-air displays\, deep discounts\, and fun surprises from your favorite local shops. \nStroll the streets and discover special offers on everything from fashion and home goods to handmade items\, gifts\, and more. Whether you’re a bargain hunter or just love supporting small businesses\, you won’t want to miss this summertime tradition.
URL:https://ottawadowntownassociation.org/event/downtown-ottawa-sidewalk-sales/
LOCATION:Downtown Ottawa
CATEGORIES:Downtown Event,Shopping
ATTACH;FMTTYPE=image/webp:https://ottawadowntownassociation.org/wp-content/uploads/2025/07/ODA-Sidewalk-Sales-Facebook-Post.webp
END:VEVENT
BEGIN:VEVENT
DTSTART;TZID=America/Chicago:20250802T080000
DTEND;TZID=America/Chicago:20250802T130000
DTSTAMP:20260424T000047
CREATED:20250728T154039Z
LAST-MODIFIED:20250728T154039Z
UID:101710-1754121600-1754139600@ottawadowntownassociation.org
SUMMARY:41st Annual Car Show
DESCRIPTION:Join us in celebrating our 41st Car Show and the club’s 41st year.\nWe are changing things up a bit with being more involved with Ottawa’s Friendship Days.\n\nWe are also hosting a food truck festival along with a large craft show with over 50 large vendors. This gives the whole family a day of fun and entertainment.\nThere will be a variety of food trucks with some offering breakfast options and switching to lunchtime fare. There will also be a coffee truck available.\nThe food trucks and craft show will run until 4pm and the craft show will run on Sunday also.\nThis year we will have a new sound system setup that will be a huge improvement.\nRegistration is a low $10 and as always spectators are free.\n\nWe hope to see you all there!
URL:https://ottawadowntownassociation.org/event/41st-annual-car-show/
LOCATION:234 Albi Sevens Dr\, 234 Albin Stevens Dr\, Ottawa\, Illinois
ATTACH;FMTTYPE=image/webp:https://ottawadowntownassociation.org/wp-content/uploads/2025/07/496392256_24380492381541367_781787668597746472_n.webp
END:VEVENT
END:VCALENDAR