BEGIN:VCALENDAR
VERSION:2.0
PRODID:-//Ottawa Downtown Association - ECPv6.15.20//NONSGML v1.0//EN
CALSCALE:GREGORIAN
METHOD:PUBLISH
X-ORIGINAL-URL:https://ottawadowntownassociation.org
X-WR-CALDESC:Events for Ottawa Downtown Association
REFRESH-INTERVAL;VALUE=DURATION:PT1H
X-Robots-Tag:noindex
X-PUBLISHED-TTL:PT1H
BEGIN:VTIMEZONE
TZID:America/Chicago
BEGIN:DAYLIGHT
TZOFFSETFROM:-0600
TZOFFSETTO:-0500
TZNAME:CDT
DTSTART:20240310T080000
END:DAYLIGHT
BEGIN:STANDARD
TZOFFSETFROM:-0500
TZOFFSETTO:-0600
TZNAME:CST
DTSTART:20241103T070000
END:STANDARD
BEGIN:DAYLIGHT
TZOFFSETFROM:-0600
TZOFFSETTO:-0500
TZNAME:CDT
DTSTART:20250309T080000
END:DAYLIGHT
BEGIN:STANDARD
TZOFFSETFROM:-0500
TZOFFSETTO:-0600
TZNAME:CST
DTSTART:20251102T070000
END:STANDARD
BEGIN:DAYLIGHT
TZOFFSETFROM:-0600
TZOFFSETTO:-0500
TZNAME:CDT
DTSTART:20260308T080000
END:DAYLIGHT
BEGIN:STANDARD
TZOFFSETFROM:-0500
TZOFFSETTO:-0600
TZNAME:CST
DTSTART:20261101T070000
END:STANDARD
END:VTIMEZONE
BEGIN:VEVENT
DTSTART;TZID=America/Chicago:20250727T110000
DTEND;TZID=America/Chicago:20250727T150000
DTSTAMP:20260424T012706
CREATED:20250725T132151Z
LAST-MODIFIED:20250725T132151Z
UID:101681-1753614000-1753628400@ottawadowntownassociation.org
SUMMARY:Touch a Truck
DESCRIPTION:Touch a Truck will be held Sunday\, July 27\, from 11 am to 3 pm\, along the Riverfront\, 400 Clinton St.\, Ottawa\, IL. \nHosted by Illinois Valley Building and Construction Trades Council and Illinois Valley Contractors Association .
URL:https://ottawadowntownassociation.org/event/touch-a-truck/
LOCATION:Old Central School Lot\, 400 Clinton St\, Ottawa\, Illioins
CATEGORIES:Downtown Event,Kid-Friendly
ATTACH;FMTTYPE=image/webp:https://ottawadowntownassociation.org/wp-content/uploads/2025/07/520184079_122124803732860398_5831095734789268247_n.webp
END:VEVENT
END:VCALENDAR