BEGIN:VCALENDAR
VERSION:2.0
PRODID:-//Ottawa Downtown Association - ECPv6.15.20//NONSGML v1.0//EN
CALSCALE:GREGORIAN
METHOD:PUBLISH
X-ORIGINAL-URL:https://ottawadowntownassociation.org
X-WR-CALDESC:Events for Ottawa Downtown Association
REFRESH-INTERVAL;VALUE=DURATION:PT1H
X-Robots-Tag:noindex
X-PUBLISHED-TTL:PT1H
BEGIN:VTIMEZONE
TZID:America/Chicago
BEGIN:DAYLIGHT
TZOFFSETFROM:-0600
TZOFFSETTO:-0500
TZNAME:CDT
DTSTART:20240310T080000
END:DAYLIGHT
BEGIN:STANDARD
TZOFFSETFROM:-0500
TZOFFSETTO:-0600
TZNAME:CST
DTSTART:20241103T070000
END:STANDARD
BEGIN:DAYLIGHT
TZOFFSETFROM:-0600
TZOFFSETTO:-0500
TZNAME:CDT
DTSTART:20250309T080000
END:DAYLIGHT
BEGIN:STANDARD
TZOFFSETFROM:-0500
TZOFFSETTO:-0600
TZNAME:CST
DTSTART:20251102T070000
END:STANDARD
BEGIN:DAYLIGHT
TZOFFSETFROM:-0600
TZOFFSETTO:-0500
TZNAME:CDT
DTSTART:20260308T080000
END:DAYLIGHT
BEGIN:STANDARD
TZOFFSETFROM:-0500
TZOFFSETTO:-0600
TZNAME:CST
DTSTART:20261101T070000
END:STANDARD
END:VTIMEZONE
BEGIN:VEVENT
DTSTART;VALUE=DATE:20250725
DTEND;VALUE=DATE:20250727
DTSTAMP:20260424T012707
CREATED:20250725T131608Z
LAST-MODIFIED:20250725T131608Z
UID:101678-1753401600-1753574399@ottawadowntownassociation.org
SUMMARY:Drinkin' with Lincoln
DESCRIPTION:Drinkin’ with Lincoln Brewfest is almost here — and you won’t want to miss this lineup!Raise a glass with these amazing breweries\, wineries\, and distilleries: Tangled Roots Brewing Company Nik & Ivy Unpossible Mead August Hill Whiskey Acres Star Union Obscurity Noon Whistle Maplewood Revolution Firestone Walker Go Brewing \n Dates & Times:Friday\, July 25: 5 PM – 9 PMSaturday\, July 26: Noon – 9 PM \n Early Bird Ticket Pricing: $25 for 28 tasting tickets — get yours now!At the door: $1 per ticket. \n Sampling Details:2 tickets = 3 oz. beer sample or 1 oz. spirit sample7 tickets = 16 oz. beer or 5 oz. spirit \nGrab your tickets and get ready to sip\, sample\, and savor downtown Ottawa!  https://www.visitottawail.com/drinkin-with-lincoln
URL:https://ottawadowntownassociation.org/event/drinkin-with-lincoln-2/
LOCATION:Washington Square Park\, 101 E Lafayette St\, Ottawa\, Illinois
CATEGORIES:Downtown Event
ATTACH;FMTTYPE=image/webp:https://ottawadowntownassociation.org/wp-content/uploads/2025/07/514644195_122119903082860398_5938552993415515429_n.webp
END:VEVENT
END:VCALENDAR