BEGIN:VCALENDAR
VERSION:2.0
PRODID:-//Ottawa Downtown Association - ECPv6.15.20//NONSGML v1.0//EN
CALSCALE:GREGORIAN
METHOD:PUBLISH
X-ORIGINAL-URL:https://ottawadowntownassociation.org
X-WR-CALDESC:Events for Ottawa Downtown Association
REFRESH-INTERVAL;VALUE=DURATION:PT1H
X-Robots-Tag:noindex
X-PUBLISHED-TTL:PT1H
BEGIN:VTIMEZONE
TZID:America/Chicago
BEGIN:DAYLIGHT
TZOFFSETFROM:-0600
TZOFFSETTO:-0500
TZNAME:CDT
DTSTART:20240310T080000
END:DAYLIGHT
BEGIN:STANDARD
TZOFFSETFROM:-0500
TZOFFSETTO:-0600
TZNAME:CST
DTSTART:20241103T070000
END:STANDARD
BEGIN:DAYLIGHT
TZOFFSETFROM:-0600
TZOFFSETTO:-0500
TZNAME:CDT
DTSTART:20250309T080000
END:DAYLIGHT
BEGIN:STANDARD
TZOFFSETFROM:-0500
TZOFFSETTO:-0600
TZNAME:CST
DTSTART:20251102T070000
END:STANDARD
BEGIN:DAYLIGHT
TZOFFSETFROM:-0600
TZOFFSETTO:-0500
TZNAME:CDT
DTSTART:20260308T080000
END:DAYLIGHT
BEGIN:STANDARD
TZOFFSETFROM:-0500
TZOFFSETTO:-0600
TZNAME:CST
DTSTART:20261101T070000
END:STANDARD
END:VTIMEZONE
BEGIN:VEVENT
DTSTART;TZID=America/Chicago:20250718T190000
DTEND;TZID=America/Chicago:20250718T220000
DTSTAMP:20260424T012706
CREATED:20250521T161455Z
LAST-MODIFIED:20250521T161455Z
UID:101640-1752865200-1752876000@ottawadowntownassociation.org
SUMMARY:Jordan Block Jams: Tailgate Confessions
DESCRIPTION:Our Jordan Block Jams Summer Series continues with Tailgate Confessions! Join us for an unforgettable night of music\, food\, and fun!\n\n Date: July 18 Time: 7-10 PM (Music begins @ 8PM) Location: Jordan Block Ottawa\n\nTailgate Confessions- Modern Country and Classic Rock\n\n Join us for a night of modern country and classic rock with Brittany Ralph from Ottawa\, Timothy Mattern\, and Rachel Corsale from Spring Valley! Formed in the winter of 2023\, we bring the sounds of Lainey Wilson\, Miranda Lambert\, and more to life. Our journey has taken us from local gigs to sharing the stage in Terra Haute\, Indiana\, alongside Nashville songwriters at a special “Storyteller” showcase in 2024. With over 100 shows under our belt\, we’ve entertained a diverse range of clients and audiences. Don’t miss out on an evening filled with great music and unforgettable moments! \n\nBring your friends\, family\, and neighbors for a fantastic evening of live music and community vibes. Plus\, admission is FREE!  Don’t forget your lawn chairs or blankets!
URL:https://ottawadowntownassociation.org/event/jordan-block-jams-tailgate-confessions/
LOCATION:Jordan Block\, 101-123 W Main St\,\, Ottawa\, IL\, 61350\, United States
CATEGORIES:Downtown Event,Kid-Friendly,Music in the Park
ATTACH;FMTTYPE=image/webp:https://ottawadowntownassociation.org/wp-content/uploads/2025/05/tailgate-confessions.webp
END:VEVENT
END:VCALENDAR