BEGIN:VCALENDAR
VERSION:2.0
PRODID:-//Ottawa Downtown Association - ECPv6.15.20//NONSGML v1.0//EN
CALSCALE:GREGORIAN
METHOD:PUBLISH
X-WR-CALNAME:Ottawa Downtown Association
X-ORIGINAL-URL:https://ottawadowntownassociation.org
X-WR-CALDESC:Events for Ottawa Downtown Association
REFRESH-INTERVAL;VALUE=DURATION:PT1H
X-Robots-Tag:noindex
X-PUBLISHED-TTL:PT1H
BEGIN:VTIMEZONE
TZID:America/Chicago
BEGIN:DAYLIGHT
TZOFFSETFROM:-0600
TZOFFSETTO:-0500
TZNAME:CDT
DTSTART:20240310T080000
END:DAYLIGHT
BEGIN:STANDARD
TZOFFSETFROM:-0500
TZOFFSETTO:-0600
TZNAME:CST
DTSTART:20241103T070000
END:STANDARD
BEGIN:DAYLIGHT
TZOFFSETFROM:-0600
TZOFFSETTO:-0500
TZNAME:CDT
DTSTART:20250309T080000
END:DAYLIGHT
BEGIN:STANDARD
TZOFFSETFROM:-0500
TZOFFSETTO:-0600
TZNAME:CST
DTSTART:20251102T070000
END:STANDARD
BEGIN:DAYLIGHT
TZOFFSETFROM:-0600
TZOFFSETTO:-0500
TZNAME:CDT
DTSTART:20260308T080000
END:DAYLIGHT
BEGIN:STANDARD
TZOFFSETFROM:-0500
TZOFFSETTO:-0600
TZNAME:CST
DTSTART:20261101T070000
END:STANDARD
END:VTIMEZONE
BEGIN:VEVENT
DTSTART;TZID=America/Chicago:20250704T203000
DTEND;TZID=America/Chicago:20250704T223000
DTSTAMP:20260424T012643
CREATED:20250521T225147Z
LAST-MODIFIED:20250521T225147Z
UID:101658-1751661000-1751668200@ottawadowntownassociation.org
SUMMARY:Ottawa's 4th of July Fireworks
DESCRIPTION:Join us for an unforgettable Independence Day celebration at Ottawa High School! Gather with the community for a fun-filled evening under the stars.\n\n Special Performance: The evening kicks off with Kaedon Cronkright performing a powerful rendition of the National Anthem. 50/50 Raffle: Try your luck—winner takes home half the pot! You’ll also be helping to support *next year’s* fireworks! The Grand Finale: As the sky darkens\, enjoy a spectacular fireworks display that lights up the night and celebrates the spirit of freedom.\n\nAdmission is free! Come early for the best viewing spots. Fireworks begin at dusk.\n\nLet’s celebrate together—family\, friends\, fireworks\, and fun! Tag your crew\, share the event\, and don’t forget your patriotic spirit!
URL:https://ottawadowntownassociation.org/event/ottawas-4th-of-july-fireworks/
LOCATION:Ottawa Township High School\, 211 E Main St\, OTTAWA\, IL\, 61350-1041\, United States
CATEGORIES:Downtown Event,Holidays,Kid-Friendly
ATTACH;FMTTYPE=image/webp:https://ottawadowntownassociation.org/wp-content/uploads/2025/05/ODA-fireworks-fb-cover.webp
END:VEVENT
END:VCALENDAR