BEGIN:VCALENDAR
VERSION:2.0
PRODID:-//Ottawa Downtown Association - ECPv6.15.20//NONSGML v1.0//EN
CALSCALE:GREGORIAN
METHOD:PUBLISH
X-ORIGINAL-URL:https://ottawadowntownassociation.org
X-WR-CALDESC:Events for Ottawa Downtown Association
REFRESH-INTERVAL;VALUE=DURATION:PT1H
X-Robots-Tag:noindex
X-PUBLISHED-TTL:PT1H
BEGIN:VTIMEZONE
TZID:America/Chicago
BEGIN:DAYLIGHT
TZOFFSETFROM:-0600
TZOFFSETTO:-0500
TZNAME:CDT
DTSTART:20240310T080000
END:DAYLIGHT
BEGIN:STANDARD
TZOFFSETFROM:-0500
TZOFFSETTO:-0600
TZNAME:CST
DTSTART:20241103T070000
END:STANDARD
BEGIN:DAYLIGHT
TZOFFSETFROM:-0600
TZOFFSETTO:-0500
TZNAME:CDT
DTSTART:20250309T080000
END:DAYLIGHT
BEGIN:STANDARD
TZOFFSETFROM:-0500
TZOFFSETTO:-0600
TZNAME:CST
DTSTART:20251102T070000
END:STANDARD
BEGIN:DAYLIGHT
TZOFFSETFROM:-0600
TZOFFSETTO:-0500
TZNAME:CDT
DTSTART:20260308T080000
END:DAYLIGHT
BEGIN:STANDARD
TZOFFSETFROM:-0500
TZOFFSETTO:-0600
TZNAME:CST
DTSTART:20261101T070000
END:STANDARD
END:VTIMEZONE
BEGIN:VEVENT
DTSTART;TZID=America/Chicago:20250503T080000
DTEND;TZID=America/Chicago:20250503T160000
DTSTAMP:20260424T034626
CREATED:20250218T202834Z
LAST-MODIFIED:20250227T194847Z
UID:101394-1746259200-1746288000@ottawadowntownassociation.org
SUMMARY:Midwest Morel Fest
DESCRIPTION:Join us at the Jordan Block (100 Main Street) where you can shop and peruse through a large Botanical Market and Morel Market offering everything…you guessed it…MUSHROOMS! We’ll even have MOREL UNIVERSITY where you can learn to identify morels\, so you know what to look for when you’re hiking through on your guided hunt! Educational hunt has limited availability. \nSchedule: \n\n7:30 am – Hunt and Morel Market sign-in\n8-8:30 am – Morel University\n8:45 am – Busses depart for guided hunt\n9am – 4pm – Morel Market – morel mushrooms only\n8am – 4pm – Vendor Market\n9am – 11:30 am – Guided Hunt\n12:30 pm – Awards
URL:https://ottawadowntownassociation.org/event/midwest-morel-fest/
LOCATION:Jordan Block\, 101-123 W Main St\,\, Ottawa\, IL\, 61350\, United States
CATEGORIES:Downtown Event,Kid-Friendly,Shopping
ATTACH;FMTTYPE=image/jpeg:https://ottawadowntownassociation.org/wp-content/uploads/2025/02/morelfest2025.jpg
END:VEVENT
BEGIN:VEVENT
DTSTART;TZID=America/Chicago:20250510T053000
DTEND;TZID=America/Chicago:20250510T133000
DTSTAMP:20260424T034626
CREATED:20250218T203250Z
LAST-MODIFIED:20250218T203250Z
UID:101396-1746855000-1746883800@ottawadowntownassociation.org
SUMMARY:Starved Rock Country Marathon
DESCRIPTION:The Starved Rock Country Marathon kicks off in the heart of downtown Ottawa\, a vibrant and historic riverside community. From the starting line\, runners embark on a scenic journey along the Illinois River\, winding through lush landscapes and tranquil views. The course leads participants through the breathtaking trails of Starved Rock State Park\, where towering sandstone bluffs\, challenging elevation changes\, and natural rock formations create a uniquely inspiring backdrop. This picturesque route combines small-town charm with the untamed beauty of nature\, making it a truly unforgettable race experience.
URL:https://ottawadowntownassociation.org/event/starved-rock-country-marathon-2/
LOCATION:Downtown Ottawa
CATEGORIES:Downtown Event
ATTACH;FMTTYPE=image/png:https://ottawadowntownassociation.org/wp-content/uploads/2025/02/SRC-Marathon-Display-Ad-billboard-400-x-400-px.png
END:VEVENT
BEGIN:VEVENT
DTSTART;TZID=America/Chicago:20250516T170000
DTEND;TZID=America/Chicago:20250516T210000
DTSTAMP:20260424T034626
CREATED:20250117T132450Z
LAST-MODIFIED:20250225T211419Z
UID:101330-1747414800-1747429200@ottawadowntownassociation.org
SUMMARY:Ottawa's Third Friday-May 2025
DESCRIPTION:Join us for the kick-off Third Friday event on May 17\, from 5-9 pm on Madison Street in downtown Ottawa\, IL! Arts\, music\, and culture come alive during this festive street fair. Free and open to the public.
URL:https://ottawadowntownassociation.org/event/ottawas-third-friday-may-2025/
LOCATION:IL
CATEGORIES:Downtown Event,Kid-Friendly,Shopping
ATTACH;FMTTYPE=image/jpeg:https://ottawadowntownassociation.org/wp-content/uploads/2025/01/third-friday-2025.jpg
END:VEVENT
BEGIN:VEVENT
DTSTART;TZID=America/Chicago:20250531T110000
DTEND;TZID=America/Chicago:20250531T180000
DTSTAMP:20260424T034626
CREATED:20250117T133429Z
LAST-MODIFIED:20250227T165631Z
UID:101333-1748689200-1748714400@ottawadowntownassociation.org
SUMMARY:Ottawa Food and Wine Festival
DESCRIPTION:Get ready to sip\, savor\, and celebrate at Ottawa’s Inaugural Food and Wine Festival! Join us on Saturday\, May 31 at the Old Central School Lot in downtown Ottawa\, IL. Experience an afternoon of fine wine tastings paired with delectable small bites crafted to complement every pour. Explore the 2025 season launch of the Farmer and Makers Market\, shop artisanal goods\, and enjoy live music that sets the perfect backdrop to this celebration of food and wine. \nWhether a wine connoisseur or a casual sipper\, this festival promises something for everyone. Come for the food\, stay for the wine\, and celebrate the vibrant community spirit that makes Ottawa unique.
URL:https://ottawadowntownassociation.org/event/ottawa-food-and-wine-festival/
LOCATION:Old Central School Lot\, 400 Clinton St\, Ottawa\, Illioins
CATEGORIES:Downtown Event,Fundraising
ATTACH;FMTTYPE=image/png:https://ottawadowntownassociation.org/wp-content/uploads/2025/02/Community-Dinner-02.png
END:VEVENT
END:VCALENDAR