BEGIN:VCALENDAR
VERSION:2.0
PRODID:-//Ottawa Downtown Association - ECPv6.15.20//NONSGML v1.0//EN
CALSCALE:GREGORIAN
METHOD:PUBLISH
X-WR-CALNAME:Ottawa Downtown Association
X-ORIGINAL-URL:https://ottawadowntownassociation.org
X-WR-CALDESC:Events for Ottawa Downtown Association
REFRESH-INTERVAL;VALUE=DURATION:PT1H
X-Robots-Tag:noindex
X-PUBLISHED-TTL:PT1H
BEGIN:VTIMEZONE
TZID:America/Chicago
BEGIN:DAYLIGHT
TZOFFSETFROM:-0600
TZOFFSETTO:-0500
TZNAME:CDT
DTSTART:20240310T080000
END:DAYLIGHT
BEGIN:STANDARD
TZOFFSETFROM:-0500
TZOFFSETTO:-0600
TZNAME:CST
DTSTART:20241103T070000
END:STANDARD
BEGIN:DAYLIGHT
TZOFFSETFROM:-0600
TZOFFSETTO:-0500
TZNAME:CDT
DTSTART:20250309T080000
END:DAYLIGHT
BEGIN:STANDARD
TZOFFSETFROM:-0500
TZOFFSETTO:-0600
TZNAME:CST
DTSTART:20251102T070000
END:STANDARD
BEGIN:DAYLIGHT
TZOFFSETFROM:-0600
TZOFFSETTO:-0500
TZNAME:CDT
DTSTART:20260308T080000
END:DAYLIGHT
BEGIN:STANDARD
TZOFFSETFROM:-0500
TZOFFSETTO:-0600
TZNAME:CST
DTSTART:20261101T070000
END:STANDARD
END:VTIMEZONE
BEGIN:VEVENT
DTSTART;TZID=America/Chicago:20250419T090000
DTEND;TZID=America/Chicago:20250419T110000
DTSTAMP:20260424T074527
CREATED:20250403T153816Z
LAST-MODIFIED:20250403T153816Z
UID:101621-1745053200-1745060400@ottawadowntownassociation.org
SUMMARY:First Annual Easter Egg Hunt
DESCRIPTION: Exciting News! Join us for our First Annual Easter Egg Hunt\, sponsored by the Special Events Committee!  Save the Date: April 19\, 2025 Location: Allen Park Time: 9:00 AM – 11:00 AMPLUS!  Enjoy FREE professional photos with the Easter Bunny!
URL:https://ottawadowntownassociation.org/event/first-annual-easter-egg-hunt/
LOCATION:Allen Park\, 400 Courtney Street\, Ottawa\, 61350\, United States
ATTACH;FMTTYPE=image/webp:https://ottawadowntownassociation.org/wp-content/uploads/2025/04/486518743_963914965892977_4697057332799633625_n.webp
END:VEVENT
END:VCALENDAR