BEGIN:VCALENDAR
VERSION:2.0
PRODID:-//Ottawa Downtown Association - ECPv6.15.20//NONSGML v1.0//EN
CALSCALE:GREGORIAN
METHOD:PUBLISH
X-ORIGINAL-URL:https://ottawadowntownassociation.org
X-WR-CALDESC:Events for Ottawa Downtown Association
REFRESH-INTERVAL;VALUE=DURATION:PT1H
X-Robots-Tag:noindex
X-PUBLISHED-TTL:PT1H
BEGIN:VTIMEZONE
TZID:America/Chicago
BEGIN:DAYLIGHT
TZOFFSETFROM:-0600
TZOFFSETTO:-0500
TZNAME:CDT
DTSTART:20240310T080000
END:DAYLIGHT
BEGIN:STANDARD
TZOFFSETFROM:-0500
TZOFFSETTO:-0600
TZNAME:CST
DTSTART:20241103T070000
END:STANDARD
BEGIN:DAYLIGHT
TZOFFSETFROM:-0600
TZOFFSETTO:-0500
TZNAME:CDT
DTSTART:20250309T080000
END:DAYLIGHT
BEGIN:STANDARD
TZOFFSETFROM:-0500
TZOFFSETTO:-0600
TZNAME:CST
DTSTART:20251102T070000
END:STANDARD
BEGIN:DAYLIGHT
TZOFFSETFROM:-0600
TZOFFSETTO:-0500
TZNAME:CDT
DTSTART:20260308T080000
END:DAYLIGHT
BEGIN:STANDARD
TZOFFSETFROM:-0500
TZOFFSETTO:-0600
TZNAME:CST
DTSTART:20261101T070000
END:STANDARD
END:VTIMEZONE
BEGIN:VEVENT
DTSTART;TZID=America/Chicago:20250222T160000
DTEND;TZID=America/Chicago:20250222T183000
DTSTAMP:20260424T120057
CREATED:20250218T201838Z
LAST-MODIFIED:20250218T201838Z
UID:101388-1740240000-1740249000@ottawadowntownassociation.org
SUMMARY:Coldest Night of the Year 2025
DESCRIPTION:Join Us for the Coldest Night of the Year – February 22\, 2025 \n\n\nIllinois Valley PADS (Public Action to Deliver Shelter) provides transformative programs\, resources\, and advocacy for individuals and families experiencing homelessness in LaSalle\, Bureau\, and Putnam counties. Again this year\, we’re partnering with Coldest Night of the Year USA\, a family-friendly winter walk that raises funds and awareness for people facing the harsh realities of life without a home. \nOn February 22\, 2025\, we’ll gather at Jordan Block in Ottawa\, Illinois\, and walk a one-mile route going north on La Salle St.\, crossing over Canal Towpath and back down Columbus St.\, symbolizing the journey our neighbors in need endure every day. Together\, we’ll shine a light on homelessness while raising vital funds to help IV PADS continue to offer dignity\, respect\, and support. \nBe part of something meaningful – We forming 27 teams to walk and fundraise. Start a team\, join a team\, or support a walker to help us reach our goal and make a difference. Sign up or learn more at cnoy.com/location/Ottawa
URL:https://ottawadowntownassociation.org/event/coldest-night-of-the-year-2025/
LOCATION:Jordan Block\, 101-123 W Main St\,\, Ottawa\, IL\, 61350\, United States
CATEGORIES:Downtown Event,Fundraising
ATTACH;FMTTYPE=image/jpeg:https://ottawadowntownassociation.org/wp-content/uploads/2025/02/475971704_599653282951718_9029406863589363612_n.jpg
ORGANIZER;CN="IV PADS":MAILTO:sallymvancura@gmail.com
END:VEVENT
END:VCALENDAR