BEGIN:VCALENDAR
VERSION:2.0
PRODID:-//Ottawa Downtown Association - ECPv6.15.20//NONSGML v1.0//EN
CALSCALE:GREGORIAN
METHOD:PUBLISH
X-ORIGINAL-URL:https://ottawadowntownassociation.org
X-WR-CALDESC:Events for Ottawa Downtown Association
REFRESH-INTERVAL;VALUE=DURATION:PT1H
X-Robots-Tag:noindex
X-PUBLISHED-TTL:PT1H
BEGIN:VTIMEZONE
TZID:America/Chicago
BEGIN:DAYLIGHT
TZOFFSETFROM:-0600
TZOFFSETTO:-0500
TZNAME:CDT
DTSTART:20240310T080000
END:DAYLIGHT
BEGIN:STANDARD
TZOFFSETFROM:-0500
TZOFFSETTO:-0600
TZNAME:CST
DTSTART:20241103T070000
END:STANDARD
BEGIN:DAYLIGHT
TZOFFSETFROM:-0600
TZOFFSETTO:-0500
TZNAME:CDT
DTSTART:20250309T080000
END:DAYLIGHT
BEGIN:STANDARD
TZOFFSETFROM:-0500
TZOFFSETTO:-0600
TZNAME:CST
DTSTART:20251102T070000
END:STANDARD
BEGIN:DAYLIGHT
TZOFFSETFROM:-0600
TZOFFSETTO:-0500
TZNAME:CDT
DTSTART:20260308T080000
END:DAYLIGHT
BEGIN:STANDARD
TZOFFSETFROM:-0500
TZOFFSETTO:-0600
TZNAME:CST
DTSTART:20261101T070000
END:STANDARD
END:VTIMEZONE
BEGIN:VEVENT
DTSTART;TZID=America/Chicago:20250208T120000
DTEND;TZID=America/Chicago:20250208T160000
DTSTAMP:20260424T120101
CREATED:20250115T180900Z
LAST-MODIFIED:20250115T180900Z
UID:101327-1739016000-1739030400@ottawadowntownassociation.org
SUMMARY:Sweet Stroll
DESCRIPTION:Indulge your sweet tooth and create lasting memories at the Downtown Ottawa Sweet Stroll! Join us on Saturday\, February 8\, from Noon-4 PM for an afternoon of delicious fun the whole family will love. \nStroll through charming downtown Ottawa and visit a variety of local businesses\, each offering a unique confection or cookie for you to collect. As you explore\, warm up with samples of hot drinks to complement your treats. \nYour family ticket includes: \n\n12 delightful confections and cookies to share\nOne keepsake ceramic mug\n\nWant extra mugs to share or collect? No problem—additional mugs are available for just $5 each. \nBring your family and friends to experience a cozy\, sweet-filled adventure that showcases the heart of our community. Don’t miss out—tickets are limited\, so secure yours today! \nWe can’t wait to see you on the Sweet Stroll! \nPlease note: \n\nThe Sweet Stroll is a rain-or-shine event\, so dress accordingly and embrace the cozy vibes\, no matter the weather!\nNo refunds can be issued\, but we’re confident the sweet treats and warm memories will be worth it.
URL:https://ottawadowntownassociation.org/event/sweet-stroll/
LOCATION:IL
CATEGORIES:Downtown Event,Holidays,Kid-Friendly,Shopping
ATTACH;FMTTYPE=image/png:https://ottawadowntownassociation.org/wp-content/uploads/2025/01/sweet-stroll-cover-image-01.png
END:VEVENT
END:VCALENDAR