BEGIN:VCALENDAR
VERSION:2.0
PRODID:-//Ottawa Downtown Association - ECPv6.15.20//NONSGML v1.0//EN
CALSCALE:GREGORIAN
METHOD:PUBLISH
X-WR-CALNAME:Ottawa Downtown Association
X-ORIGINAL-URL:https://ottawadowntownassociation.org
X-WR-CALDESC:Events for Ottawa Downtown Association
REFRESH-INTERVAL;VALUE=DURATION:PT1H
X-Robots-Tag:noindex
X-PUBLISHED-TTL:PT1H
BEGIN:VTIMEZONE
TZID:America/Chicago
BEGIN:DAYLIGHT
TZOFFSETFROM:-0600
TZOFFSETTO:-0500
TZNAME:CDT
DTSTART:20230312T080000
END:DAYLIGHT
BEGIN:STANDARD
TZOFFSETFROM:-0500
TZOFFSETTO:-0600
TZNAME:CST
DTSTART:20231105T070000
END:STANDARD
BEGIN:DAYLIGHT
TZOFFSETFROM:-0600
TZOFFSETTO:-0500
TZNAME:CDT
DTSTART:20240310T080000
END:DAYLIGHT
BEGIN:STANDARD
TZOFFSETFROM:-0500
TZOFFSETTO:-0600
TZNAME:CST
DTSTART:20241103T070000
END:STANDARD
BEGIN:DAYLIGHT
TZOFFSETFROM:-0600
TZOFFSETTO:-0500
TZNAME:CDT
DTSTART:20250309T080000
END:DAYLIGHT
BEGIN:STANDARD
TZOFFSETFROM:-0500
TZOFFSETTO:-0600
TZNAME:CST
DTSTART:20251102T070000
END:STANDARD
END:VTIMEZONE
BEGIN:VEVENT
DTSTART;TZID=America/Chicago:20241213T160000
DTEND;TZID=America/Chicago:20241213T200000
DTSTAMP:20260424T132249
CREATED:20241114T143136Z
LAST-MODIFIED:20241114T143136Z
UID:101165-1734105600-1734120000@ottawadowntownassociation.org
SUMMARY:Krampus Cookie Crawl
DESCRIPTION:Join us for the First Annual Krampus Cookie Crawl as part of Ottawa’s enchanting Chris Kringle Market on Friday\, December 13! This unique\, adults-only holiday experience invites guests to follow Krampus’ mischievous path through historic downtown Ottawa\, stopping at nine festive locations. Along the way\, you’ll collect 6 deliciously decadent cookies and confections crafted to bring a twist to holiday flavors and warm up with three delicious holiday-themed cocktails. With only 50 tickets available\, this intimate event is sure to sell out quickly. Embrace the magic and mystery of the season—Krampus style! Must be 21+ to participate. \nParticipants pick up their cookie box at the Floret hut at Chris Kringle Market at Jordan Block on Friday\, Dec. 13\, starting at 4 pm. 21+ only\, must show ID at pickup. This is a rain or shine event with no refunds.
URL:https://ottawadowntownassociation.org/event/krampus-cookie-crawl/
LOCATION:Floret Plants and Provisions\, 610 Court Street\, Ottawa\, IL\, 61350\, United States
CATEGORIES:Downtown Event,Holidays
ATTACH;FMTTYPE=image/png:https://ottawadowntownassociation.org/wp-content/uploads/2024/11/Plan-Your-Visit-1.png
END:VEVENT
BEGIN:VEVENT
DTSTART;TZID=America/Chicago:20241213T160000
DTEND;TZID=America/Chicago:20241215T160000
DTSTAMP:20260424T132249
CREATED:20241012T150803Z
LAST-MODIFIED:20241012T151054Z
UID:101089-1734105600-1734278400@ottawadowntownassociation.org
SUMMARY:Ottawa's Chris Kringle Market
DESCRIPTION:Step into the magic of the holiday season at Ottawa’s Chris Kringle Market\, a charming Old-Fashioned Christmas market set in the heart of historic downtown Ottawa. Enjoy festive shopping from local artisans\, indulge in seasonal treats\, and experience family-friendly activities throughout the weekend. Don’t miss the beautifully decorated Gingerbread Lane Christmas tree\, live entertainment\, and the warmth of holiday traditions. Perfect for all ages! \nDec. 13\, 14\, 15\n\nFri: 4-8 pm\nSat: 11 am-7 pm\nSun: 11 am-4 pm\n\nThe market will be open each Friday\, Saturday\, and Sunday\, Nov 29 thru December 22.
URL:https://ottawadowntownassociation.org/event/ottawas-chris-kringle-market-2/
LOCATION:Downtown Ottawa
CATEGORIES:Downtown Event,Holidays
ATTACH;FMTTYPE=image/png:https://ottawadowntownassociation.org/wp-content/uploads/2024/10/Chris-Kringle-Facebook-Post.png
END:VEVENT
END:VCALENDAR