BEGIN:VCALENDAR
VERSION:2.0
PRODID:-//Ottawa Downtown Association - ECPv6.15.20//NONSGML v1.0//EN
CALSCALE:GREGORIAN
METHOD:PUBLISH
X-ORIGINAL-URL:https://ottawadowntownassociation.org
X-WR-CALDESC:Events for Ottawa Downtown Association
REFRESH-INTERVAL;VALUE=DURATION:PT1H
X-Robots-Tag:noindex
X-PUBLISHED-TTL:PT1H
BEGIN:VTIMEZONE
TZID:America/Chicago
BEGIN:DAYLIGHT
TZOFFSETFROM:-0600
TZOFFSETTO:-0500
TZNAME:CDT
DTSTART:20230312T080000
END:DAYLIGHT
BEGIN:STANDARD
TZOFFSETFROM:-0500
TZOFFSETTO:-0600
TZNAME:CST
DTSTART:20231105T070000
END:STANDARD
BEGIN:DAYLIGHT
TZOFFSETFROM:-0600
TZOFFSETTO:-0500
TZNAME:CDT
DTSTART:20240310T080000
END:DAYLIGHT
BEGIN:STANDARD
TZOFFSETFROM:-0500
TZOFFSETTO:-0600
TZNAME:CST
DTSTART:20241103T070000
END:STANDARD
BEGIN:DAYLIGHT
TZOFFSETFROM:-0600
TZOFFSETTO:-0500
TZNAME:CDT
DTSTART:20250309T080000
END:DAYLIGHT
BEGIN:STANDARD
TZOFFSETFROM:-0500
TZOFFSETTO:-0600
TZNAME:CST
DTSTART:20251102T070000
END:STANDARD
END:VTIMEZONE
BEGIN:VEVENT
DTSTART;TZID=America/Chicago:20241108T160000
DTEND;TZID=America/Chicago:20241110T170000
DTSTAMP:20260424T133117
CREATED:20241014T132504Z
LAST-MODIFIED:20241014T132555Z
UID:101124-1731081600-1731258000@ottawadowntownassociation.org
SUMMARY:Holiday Open House
DESCRIPTION:Kick off the holiday season with Downtown Ottawa’s Holiday Open House! From November 8-10\, our charming local shops will offer an exclusive Christmas shopping preview\, filled with festive finds and special deals. Stroll through the beautifully decorated streets\, get a head start on your gift list\, and discover unique treasures you won’t find anywhere else. Whether you’re looking for handcrafted goods\, seasonal décor\, or the perfect stocking stuffers\, Downtown Ottawa has it all. Join us for a weekend of holiday cheer\, great shopping\, and a festive atmosphere to make your season bright!
URL:https://ottawadowntownassociation.org/event/holiday-open-house/
LOCATION:Downtown Ottawa
CATEGORIES:Downtown Businesses,Holidays,Shopping
ATTACH;FMTTYPE=image/png:https://ottawadowntownassociation.org/wp-content/uploads/2024/10/Holiday-Open-House-Nov.-8-10-Downtown-Ottawa.png
END:VEVENT
BEGIN:VEVENT
DTSTART;VALUE=DATE:20241122
DTEND;VALUE=DATE:20241123
DTSTAMP:20260424T133117
CREATED:20241021T144251Z
LAST-MODIFIED:20241021T144251Z
UID:101139-1732233600-1732319999@ottawadowntownassociation.org
SUMMARY:Pink Friday
DESCRIPTION:Pink Friday is a nationwide event celebrating and supporting small and local businesses. Established in 2020\, it takes place annually on the Friday before Black Friday\, encouraging shoppers to discover and support small retailers first during the holiday season. \nPink Friday highlights the value of community\, urging shoppers to invest in the vibrancy and diversity of their local economies before turning to big-box retailers. \nParticipation in Pink Friday is free for all types of small business retailers.
URL:https://ottawadowntownassociation.org/event/pink-friday/
LOCATION:Downtown Ottawa
CATEGORIES:Downtown Event,Holidays,Shopping
ATTACH;FMTTYPE=image/png:https://ottawadowntownassociation.org/wp-content/uploads/2024/10/Make-the-Pledge.png
END:VEVENT
BEGIN:VEVENT
DTSTART;TZID=America/Chicago:20241129T120000
DTEND;TZID=America/Chicago:20241201T160000
DTSTAMP:20260424T133117
CREATED:20241012T150017Z
LAST-MODIFIED:20241012T150017Z
UID:101083-1732881600-1733068800@ottawadowntownassociation.org
SUMMARY:Ottawa's Chris Kringle Market- Opening Weekend
DESCRIPTION:Step into the magic of the holiday season at Ottawa’s Chris Kringle Market\, a charming Old-Fashioned Christmas market set in the heart of historic downtown Ottawa. Enjoy festive shopping from local artisans\, indulge in seasonal treats\, and experience family-friendly activities throughout the weekend. Don’t miss the beautifully decorated Gingerbread Lane Christmas tree\, live entertainment\, and the warmth of holiday traditions. Perfect for all ages!\n\n\n\nFri: Noon-7 pm\nSat: 11 am-7 pm\nSun: 11 am-4 pm\n\n\n\nThe market will be open each Friday\, Saturday\, and Sunday\, Nov 29 thru December 22.
URL:https://ottawadowntownassociation.org/event/ottawas-chris-kringle-market-opening-weekend/
LOCATION:Downtown Ottawa
CATEGORIES:Downtown Event,Holidays
ATTACH;FMTTYPE=image/png:https://ottawadowntownassociation.org/wp-content/uploads/2024/10/Chris-Kringle-Facebook-Post.png
END:VEVENT
BEGIN:VEVENT
DTSTART;TZID=America/Chicago:20241129T180000
DTEND;TZID=America/Chicago:20241129T193000
DTSTAMP:20260424T133117
CREATED:20241012T145234Z
LAST-MODIFIED:20241012T145253Z
UID:101080-1732903200-1732908600@ottawadowntownassociation.org
SUMMARY:Festival of Lights Parade & Deck the Park
DESCRIPTION:Join us for the 37th annual holiday parade\, a time-honored tradition of making cherished memories! The parade will kick off at LaSalle Street and the 200 block of West Jackson Street\, with festive floats and performances winding their way south on LaSalle\, culminating at Main Street. After the parade\, the celebration continues with lively entertainment by the Friendly City Sound and the Shepherd Choir\, followed by a spectacular fireworks display. To top it all off\, witness the magical lighting of the tree in the Jordan Block\, marking the start of the holiday season! Don’t miss this joyful evening of community spirit and celebration.
URL:https://ottawadowntownassociation.org/event/festival-of-lights-parade-deck-the-park/
LOCATION:Downtown Ottawa
CATEGORIES:Downtown Event,Holidays
ATTACH;FMTTYPE=image/jpeg:https://ottawadowntownassociation.org/wp-content/uploads/2024/10/459993381_1054368596692402_2156999144837630734_n-scaled.jpg
END:VEVENT
END:VCALENDAR