BEGIN:VCALENDAR
VERSION:2.0
PRODID:-//Ottawa Downtown Association - ECPv6.15.20//NONSGML v1.0//EN
CALSCALE:GREGORIAN
METHOD:PUBLISH
X-WR-CALNAME:Ottawa Downtown Association
X-ORIGINAL-URL:https://ottawadowntownassociation.org
X-WR-CALDESC:Events for Ottawa Downtown Association
REFRESH-INTERVAL;VALUE=DURATION:PT1H
X-Robots-Tag:noindex
X-PUBLISHED-TTL:PT1H
BEGIN:VTIMEZONE
TZID:America/Chicago
BEGIN:DAYLIGHT
TZOFFSETFROM:-0600
TZOFFSETTO:-0500
TZNAME:CDT
DTSTART:20230312T080000
END:DAYLIGHT
BEGIN:STANDARD
TZOFFSETFROM:-0500
TZOFFSETTO:-0600
TZNAME:CST
DTSTART:20231105T070000
END:STANDARD
BEGIN:DAYLIGHT
TZOFFSETFROM:-0600
TZOFFSETTO:-0500
TZNAME:CDT
DTSTART:20240310T080000
END:DAYLIGHT
BEGIN:STANDARD
TZOFFSETFROM:-0500
TZOFFSETTO:-0600
TZNAME:CST
DTSTART:20241103T070000
END:STANDARD
BEGIN:DAYLIGHT
TZOFFSETFROM:-0600
TZOFFSETTO:-0500
TZNAME:CDT
DTSTART:20250309T080000
END:DAYLIGHT
BEGIN:STANDARD
TZOFFSETFROM:-0500
TZOFFSETTO:-0600
TZNAME:CST
DTSTART:20251102T070000
END:STANDARD
END:VTIMEZONE
BEGIN:VEVENT
DTSTART;TZID=America/Chicago:20241005T070000
DTEND;TZID=America/Chicago:20241005T170000
DTSTAMP:20260424T144405
CREATED:20240904T205523Z
LAST-MODIFIED:20240904T205542Z
UID:101016-1728111600-1728147600@ottawadowntownassociation.org
SUMMARY:United Way of Eastern LaSalle County's Labor of Love
DESCRIPTION:United Way of Eastern LaSalle County’s Labor of Love embodies the spirit of volunteerism and community support as we join hands to bring positive change to the homes of those in need. Labor of Love is not just a one-day home repair blitz; it’s a testament to the strength of our community and the belief that everyone deserves a safe and secure place to call home. \nDedicated volunteers converge for a day of hands-on work\, repairing and enhancing homes across Eastern LaSalle County. From essential repairs to creating accessible living spaces\, Labor of Love ensures that individuals and families facing challenges have a supportive community ready to uplift them. Together\, we are not just repairing homes; we are building a stronger\, more compassionate community where everyone can thrive. \nLend a Helping Hand Volunteer for the 33rd Annual Labor of Love and be part of an initiative that brings hope and support to our community. Your time and effort can change lives! Sign up now and make a difference!  Saturday\, October 5thCall us at 815-434-4003 or use the link below to sign up to volunteer.Volunteer Application: https://forms.gle/5MsX6JeYHbcr3Qh49
URL:https://ottawadowntownassociation.org/event/united-way-of-eastern-lasalle-countys-labor-of-love/
LOCATION:Marquette Academy Cafeteria
CATEGORIES:Community Service,Downtown Event
ATTACH;FMTTYPE=image/jpeg:https://ottawadowntownassociation.org/wp-content/uploads/2024/09/455290116_905658368274259_7658173515920386956_n.jpg
END:VEVENT
BEGIN:VEVENT
DTSTART;TZID=America/Chicago:20241005T080000
DTEND;TZID=America/Chicago:20241005T123000
DTSTAMP:20260424T144405
CREATED:20240904T201113Z
LAST-MODIFIED:20240904T201113Z
UID:100995-1728115200-1728131400@ottawadowntownassociation.org
SUMMARY:Ottawa Farmers and Makers Market
DESCRIPTION:Don’t Miss the Farmers and Makers Market on October 5th! \n\nKick off your Saturday morning with an exciting market experience from 8:00 AM to 12:30 PM. Enjoy fresh produce\, local honey\, handmade crafts\, and delectable local treats.\n\n Savor a variety of farm-fresh fruits and vegetables.\n Discover unique\, handcrafted treasures from talented local artisans.\n Delight in mouthwatering baked goods and tasty treats from food stalls.\n\nBring your family\, friends\, and even your pets for a day of fun and community spirit. Let’s come together to celebrate and support our local farmers and makers. See you there!
URL:https://ottawadowntownassociation.org/event/ottawa-farmers-and-makers-market-3/
LOCATION:Jackson Street\, 100 W Jackson Street\, Ottawa\, IL\, 61350\, United States
CATEGORIES:Downtown Event,Shopping
ATTACH;FMTTYPE=image/png:https://ottawadowntownassociation.org/wp-content/uploads/2024/09/farmers-and-makers-market.png
END:VEVENT
BEGIN:VEVENT
DTSTART;TZID=America/Chicago:20241005T110000
DTEND;TZID=America/Chicago:20241005T140000
DTSTAMP:20260424T144405
CREATED:20240904T202504Z
LAST-MODIFIED:20240904T202504Z
UID:101004-1728126000-1728136800@ottawadowntownassociation.org
SUMMARY:Battle for the Basket
DESCRIPTION:The Battle for the Basket is a food truck competition and fundraiser benefitting the Ottawa Community Food Basket. We’re inviting local businesses to join us and enhance the experience for our attendees. \nFood trucks will be serving special $5 menu items throughout the day. Attendees will cast their vote for their favorite dish with a monetary donation to the Food Basket. The winning truck will be crowded the Battle Winner.
URL:https://ottawadowntownassociation.org/event/battle-for-the-basket/
LOCATION:Jordan  Block\, 101 W Main St\, Ottawa\, Illinois
CATEGORIES:Downtown Event,Fundraising
ATTACH;FMTTYPE=image/jpeg:https://ottawadowntownassociation.org/wp-content/uploads/2024/09/458370860_122157613430063301_5424080101971969791_n.jpg
END:VEVENT
BEGIN:VEVENT
DTSTART;TZID=America/Chicago:20241006T110000
DTEND;TZID=America/Chicago:20241006T150000
DTSTAMP:20260424T144405
CREATED:20240914T012550Z
LAST-MODIFIED:20240914T012550Z
UID:101045-1728212400-1728226800@ottawadowntownassociation.org
SUMMARY:Bill's Barktoberfest
DESCRIPTION:Bill Walsh Sr. was an avid dog lover and a huge supporter of anything that had to do with man’s best friend. Join us as we honor his legacy to the community of Ottawa with the second annual Barktoberfest!  \nJoin us for the second annual Bill’s Barktoberfest 2024\, featuring vendors\, food\, dog games\, and contests to honor the legacy of Bill Walsh Sr. Funds raised will support Bill’s Barking Lot\, the new city dog park in Ottawa! The event starts at 11 am on Sunday\, Oct. 6 at the Jordan Block. \nAll proceeds will be donated to Bill’s Barking Lot\, the new city dog park in downtown Ottawa. The park is located at 401 E Lafayette St.
URL:https://ottawadowntownassociation.org/event/bills-barktoberfest/
LOCATION:Jordan Block\, 101-123 W Main St\,\, Ottawa\, IL\, 61350\, United States
CATEGORIES:Downtown Event,Fundraising
ATTACH;FMTTYPE=image/png:https://ottawadowntownassociation.org/wp-content/uploads/2024/09/Bills-Barktoberfest-save-the-date-2.png
END:VEVENT
BEGIN:VEVENT
DTSTART;VALUE=DATE:20241012
DTEND;VALUE=DATE:20241013
DTSTAMP:20260424T144405
CREATED:20240914T172149Z
LAST-MODIFIED:20240914T172149Z
UID:101053-1728691200-1728777599@ottawadowntownassociation.org
SUMMARY:LaSalle County Out of the Darkness Walk
DESCRIPTION:The Community Walks\, held in hundreds of cities across the country\, are the core of the Out of the Darkness movement\, which began in 2004. These events give people the courage to open up about their own connections to the cause\, and a platform to create a culture that’s smarter about mental health. Friends\, family members\, neighbors and coworkers walk side-by-side\, supporting each other and in memory of those we’ve lost. \nNow\, more than ever\, it’s important to be there for one another and take steps to safeguard our mental health and prevent suicide. \nJoin the LaSalle County Out of the Darkness Walk on Saturday\, Oct. 12\, starting at 10 am in Washington Square Park. \nRegister today and be part of the movement to walk #OutOftheDarkness.
URL:https://ottawadowntownassociation.org/event/lasalle-county-out-of-the-darkness-walk/
LOCATION:Washington Square Park\, 101 E Lafayette St\, Ottawa\, Illinois
CATEGORIES:Downtown Event
ATTACH;FMTTYPE=image/png:https://ottawadowntownassociation.org/wp-content/uploads/2024/09/CommunityWalks_Illustrations16.png
END:VEVENT
BEGIN:VEVENT
DTSTART;TZID=America/Chicago:20241012T070000
DTEND;TZID=America/Chicago:20241012T110000
DTSTAMP:20260424T144405
CREATED:20240914T173515Z
LAST-MODIFIED:20240914T173753Z
UID:101060-1728716400-1728730800@ottawadowntownassociation.org
SUMMARY:Arukah Institute of Healing's 5K Hope Run
DESCRIPTION:Join us for the Arukah Institute of Healing’s 5K Hope Run\, in partnership with the American Foundation for Suicide Prevention. Together\, we are dedicated to saving lives and bringing hope to those affected by suicide. This event supports Arukah’s impact on mental health and substance use in Bureau\, Putnam\, Marshall\, and LaSalle counties.\n\nRace Details:\n Date: October 12th Location: Washington Park\, Ottawa IL Registration: 7am | Race starts at 8am 5K Race: Timed\, with awards for the top 3 finishers Registration: $30 (Includes a race t-shirt) –>\nhttps://runsignup.com/Race/IL/Ottawa/arukah5KForHope\n\nYour participation and donations help support educational programs\, and advocacy for suicide prevention\, and provide critical support for individuals and families affected by suicide.\nTogether\, we can work towards greatly reducing the national suicide rate!\n\n*Following this event\, the AFSP “Walk with Us” Suicide Prevention Walk will take place\, with registration opening at 10 AM and the walk starting at 1 PM.*
URL:https://ottawadowntownassociation.org/event/arukah-institute-of-healings-5k-hope-run/
LOCATION:Washington Square Park\, 101 E Lafayette St\, Ottawa\, Illinois
CATEGORIES:Downtown Event,Fundraising
ATTACH;FMTTYPE=image/jpeg:https://ottawadowntownassociation.org/wp-content/uploads/2024/09/456374462_1279667170141232_5259521715241488961_n.jpg
END:VEVENT
BEGIN:VEVENT
DTSTART;TZID=America/Chicago:20241012T080000
DTEND;TZID=America/Chicago:20241012T123000
DTSTAMP:20260424T144405
CREATED:20240904T201237Z
LAST-MODIFIED:20241014T124133Z
UID:100997-1728720000-1728736200@ottawadowntownassociation.org
SUMMARY:Ottawa Farmers and Makers Market
DESCRIPTION:Don’t Miss the Farmers and Makers Market on October 12th! \n\nKick off your Saturday morning with an exciting market experience from 8:00 AM to 12:30 PM. Enjoy fresh produce\, local honey\, handmade crafts\, and delectable local treats.\n\n Savor a variety of farm-fresh fruits and vegetables.\n Discover unique\, handcrafted treasures from talented local artisans.\n Delight in mouthwatering baked goods and tasty treats from food stalls.\n\nBring your family\, friends\, and even your pets for a day of fun and community spirit. Let’s come together to celebrate and support our local farmers and makers. See you there!
URL:https://ottawadowntownassociation.org/event/ottawa-farmers-and-makers-market-4/
LOCATION:Jackson Street\, 100 W Jackson Street\, Ottawa\, IL\, 61350\, United States
CATEGORIES:Downtown Event,Shopping
ATTACH;FMTTYPE=image/png:https://ottawadowntownassociation.org/wp-content/uploads/2024/09/farmers-and-makers-market.png
END:VEVENT
BEGIN:VEVENT
DTSTART;TZID=America/Chicago:20241012T120000
DTEND;TZID=America/Chicago:20241012T170000
DTSTAMP:20260424T144405
CREATED:20240914T172959Z
LAST-MODIFIED:20240914T172959Z
UID:101057-1728734400-1728752400@ottawadowntownassociation.org
SUMMARY:Ottawa's Smoketoberfest
DESCRIPTION:Join us on Saturday\, October 12\, 2024\, for Ottawa’s Smoketober Fest & BBQ Competition at the Jordan Block in beautiful downtown Ottawa\, from 12 PM to 5 PM. Enjoy live music\, rib tasting\, whiskey\, and bourbon tastings\, and an exciting BBQ competition. This year\, we’re thrilled to introduce brisket to the competition\, with competitors starting their cooking on Friday night. Stay tuned for potential plans to add a tailgate party on Friday\, October 11. Don’t miss out on this delicious and fun-filled event! \nOld Rip Van Winkle Bourbon raffle\, $20 per entry An interesting 10-Year-Old Bourbon\, bottled at 107 proof and brimming with complex and often contrasting flavors\, Old Rip van Winkle’s 10-Year-Old Bourbon is a scintillating and spicy expression of the Kentucky distiller’s versatility and willingness to push boundaries. Not satisfied with resting on their laurels and the “Pappy” prototype\, the 10-year-old is a punchier and more pronounced bourbon that brings forth a bounty of complex flavors\, boldly toeing the line between spice and sweetness. On the nose\, a nuanced blend of butterscotch\, caramel\, and ginger is enticing before the palate bursts with spice\, nutmeg\, and tobacco with a faint burnt caramel aroma that gives way to a warm\, oaky\, and slightly dry finish. Another groundbreaking release from the van Winkle brand\, and one that should gain cult status among fans of punchier bourbon whiskeys.
URL:https://ottawadowntownassociation.org/event/ottawas-smoketoberfest/
LOCATION:Jordan Block\, 101-123 W Main St\,\, Ottawa\, IL\, 61350\, United States
CATEGORIES:Downtown Event
ATTACH;FMTTYPE=image/jpeg:https://ottawadowntownassociation.org/wp-content/uploads/2024/09/455104069_1031175585678370_1370445489948666092_n.jpg
END:VEVENT
BEGIN:VEVENT
DTSTART;TZID=America/Chicago:20241015T150000
DTEND;TZID=America/Chicago:20241015T200000
DTSTAMP:20260424T144405
CREATED:20241014T123258Z
LAST-MODIFIED:20241014T123258Z
UID:101106-1729004400-1729022400@ottawadowntownassociation.org
SUMMARY:Help Us Decorate the Community Christmas Tree!
DESCRIPTION:Families are invited to create unique ornaments from recycled materials to adorn this year’s community Christmas tree at the Chris Kringle Market. Our tree theme\, “Gingerbread Lane\,” will shine even brighter with your handmade creations!\n\n\n\nThis is a perfect opportunity to gather with loved ones\, get creative\, and make lasting memories that will be a part of downtown Ottawa’s holiday celebration. All materials will be provided\, so just bring your holiday spirit and imagination!\n\n\n\nLet’s make this Christmas tree one to remember!\n\n\n\n Date: October 15\, 3-8 PM\n Location: Open Space Art Gallery & Studios
URL:https://ottawadowntownassociation.org/event/help-us-decorate-the-community-christmas-tree/
LOCATION:Open Space Art Gallery & Studio\, 223 W Madison St\, Ottawa\, Illinois
CATEGORIES:Holidays,Kid-Friendly
ATTACH;FMTTYPE=image/png:https://ottawadowntownassociation.org/wp-content/uploads/2024/10/Help-us-decorate-the-Community-Christmas-Tree-6.png
END:VEVENT
BEGIN:VEVENT
DTSTART;TZID=America/Chicago:20241019T080000
DTEND;TZID=America/Chicago:20241019T120000
DTSTAMP:20260424T144405
CREATED:20241014T124111Z
LAST-MODIFIED:20241014T124111Z
UID:101114-1729324800-1729339200@ottawadowntownassociation.org
SUMMARY:Ottawa Farmers and Makers Market-Final Market for the Season!
DESCRIPTION:Don’t Miss the final Farmers and Makers Market for the season on October 19th! \n\nKick off your Saturday morning with an exciting market experience from 8:00 AM to 12:30 PM. Enjoy fresh produce\, local honey\, handmade crafts\, and delectable local treats.\n\n Savor a variety of farm-fresh fruits and vegetables.\n Discover unique\, handcrafted treasures from talented local artisans.\n Delight in mouthwatering baked goods and tasty treats from food stalls.\n\nBring your family\, friends\, and even your pets for a day of fun and community spirit. Let’s come together to celebrate and support our local farmers and makers. See you there!
URL:https://ottawadowntownassociation.org/event/ottawa-farmers-and-makers-market-final-market-for-the-season/
LOCATION:IL
CATEGORIES:Downtown Event,Kid-Friendly,Shopping
ATTACH;FMTTYPE=image/png:https://ottawadowntownassociation.org/wp-content/uploads/2024/09/farmers-and-makers-market.png
END:VEVENT
BEGIN:VEVENT
DTSTART;TZID=America/Chicago:20241019T160000
DTEND;TZID=America/Chicago:20241019T200000
DTSTAMP:20260424T144405
CREATED:20240514T221516Z
LAST-MODIFIED:20240610T125826Z
UID:100672-1729353600-1729368000@ottawadowntownassociation.org
SUMMARY:A Victorian Haunting: A Taste of Ottawa and Its Spirits
DESCRIPTION:Embark on a journey through time and taste with “A Victorian Haunting: A Taste of Ottawa and its Spirits.” Prepare to be transported to the elegance and charm of the Victorian era as you indulge in chef-curated appetizers\, sip on hand-crafted cocktails\, and immerse yourself in a world of Victorian parlor activities\, such as palm reading\, tarot card readings\, and aura photography\, scattered throughout downtown Ottawa.\n\n“A Victorian Haunting” promises an unforgettable evening of gastronomic delights and historical immersion!\n\nTickets available soon.
URL:https://ottawadowntownassociation.org/event/a-victorian-haunting-a-taste-of-ottawa-and-its-spirits/
LOCATION:Downtown Ottawa
CATEGORIES:Downtown Event,Fundraising,Holidays
ATTACH;FMTTYPE=image/png:https://ottawadowntownassociation.org/wp-content/uploads/2024/05/A-Victorian-Haunting-fb-event-cover-01.png
END:VEVENT
BEGIN:VEVENT
DTSTART;TZID=America/Chicago:20241026T120000
DTEND;TZID=America/Chicago:20241026T140000
DTSTAMP:20260424T144405
CREATED:20240914T013626Z
LAST-MODIFIED:20241012T144531Z
UID:101049-1729944000-1729951200@ottawadowntownassociation.org
SUMMARY:Trick or Treat on Court Street
DESCRIPTION:Everyone is welcome to join Floret at Trick Octor Treat on Court Street! \nThere will be a dunk tank\, magician\, train rides\, axe throwing\, bounce house\, and so much more! \nCostumes are encouraged.
URL:https://ottawadowntownassociation.org/event/trick-or-treat-on-court-street/
LOCATION:Floret Plants and Provisions\, 610 Court Street\, Ottawa\, IL\, 61350\, United States
CATEGORIES:Downtown Event,Holidays
ATTACH;FMTTYPE=image/png:https://ottawadowntownassociation.org/wp-content/uploads/2024/09/2024-Halloween-Trunk-or-Treat-Flyer.png
END:VEVENT
BEGIN:VEVENT
DTSTART;TZID=America/Chicago:20241026T120000
DTEND;TZID=America/Chicago:20241026T140000
DTSTAMP:20260424T144405
CREATED:20241014T123743Z
LAST-MODIFIED:20241014T123743Z
UID:101110-1729944000-1729951200@ottawadowntownassociation.org
SUMMARY:Make an Ornament at Trick or Treat on Court Street!
DESCRIPTION:Families are invited to create unique ornaments from recycled materials to adorn this year’s community Christmas tree at the Chris Kringle Market. Our tree theme\, “Gingerbread Lane\,” will shine even brighter with your handmade creations!\n\n\n\nThis is a perfect opportunity to gather with loved ones\, get creative\, and make lasting memories that will be a part of downtown Ottawa’s holiday celebration. All materials will be provided\, so just bring your holiday spirit and imagination!\n\n\n\nLet’s make this Christmas tree one to remember!\n\n\n\n Date: October 26\, Noon-2 pm\n Location: Court Street\, Downtown Ottawa
URL:https://ottawadowntownassociation.org/event/make-an-ornament-at-trick-or-treat-on-court-street/
LOCATION:Court Street\, 2612 Cherie Lane\, OTTAWA\, IL\, 61350-1041\, United States
CATEGORIES:Holidays,Kid-Friendly
ATTACH;FMTTYPE=image/png:https://ottawadowntownassociation.org/wp-content/uploads/2024/10/Help-us-decorate-the-Community-Christmas-Tree-8.png
END:VEVENT
END:VCALENDAR