BEGIN:VCALENDAR
VERSION:2.0
PRODID:-//Ottawa Downtown Association - ECPv6.15.20//NONSGML v1.0//EN
CALSCALE:GREGORIAN
METHOD:PUBLISH
X-WR-CALNAME:Ottawa Downtown Association
X-ORIGINAL-URL:https://ottawadowntownassociation.org
X-WR-CALDESC:Events for Ottawa Downtown Association
REFRESH-INTERVAL;VALUE=DURATION:PT1H
X-Robots-Tag:noindex
X-PUBLISHED-TTL:PT1H
BEGIN:VTIMEZONE
TZID:America/Chicago
BEGIN:DAYLIGHT
TZOFFSETFROM:-0600
TZOFFSETTO:-0500
TZNAME:CDT
DTSTART:20230312T080000
END:DAYLIGHT
BEGIN:STANDARD
TZOFFSETFROM:-0500
TZOFFSETTO:-0600
TZNAME:CST
DTSTART:20231105T070000
END:STANDARD
BEGIN:DAYLIGHT
TZOFFSETFROM:-0600
TZOFFSETTO:-0500
TZNAME:CDT
DTSTART:20240310T080000
END:DAYLIGHT
BEGIN:STANDARD
TZOFFSETFROM:-0500
TZOFFSETTO:-0600
TZNAME:CST
DTSTART:20241103T070000
END:STANDARD
BEGIN:DAYLIGHT
TZOFFSETFROM:-0600
TZOFFSETTO:-0500
TZNAME:CDT
DTSTART:20250309T080000
END:DAYLIGHT
BEGIN:STANDARD
TZOFFSETFROM:-0500
TZOFFSETTO:-0600
TZNAME:CST
DTSTART:20251102T070000
END:STANDARD
END:VTIMEZONE
BEGIN:VEVENT
DTSTART;TZID=America/Chicago:20241019T080000
DTEND;TZID=America/Chicago:20241019T120000
DTSTAMP:20260424T160653
CREATED:20241014T124111Z
LAST-MODIFIED:20241014T124111Z
UID:101114-1729324800-1729339200@ottawadowntownassociation.org
SUMMARY:Ottawa Farmers and Makers Market-Final Market for the Season!
DESCRIPTION:Don’t Miss the final Farmers and Makers Market for the season on October 19th! \n\nKick off your Saturday morning with an exciting market experience from 8:00 AM to 12:30 PM. Enjoy fresh produce\, local honey\, handmade crafts\, and delectable local treats.\n\n Savor a variety of farm-fresh fruits and vegetables.\n Discover unique\, handcrafted treasures from talented local artisans.\n Delight in mouthwatering baked goods and tasty treats from food stalls.\n\nBring your family\, friends\, and even your pets for a day of fun and community spirit. Let’s come together to celebrate and support our local farmers and makers. See you there!
URL:https://ottawadowntownassociation.org/event/ottawa-farmers-and-makers-market-final-market-for-the-season/
LOCATION:IL
CATEGORIES:Downtown Event,Kid-Friendly,Shopping
ATTACH;FMTTYPE=image/png:https://ottawadowntownassociation.org/wp-content/uploads/2024/09/farmers-and-makers-market.png
END:VEVENT
BEGIN:VEVENT
DTSTART;TZID=America/Chicago:20241019T160000
DTEND;TZID=America/Chicago:20241019T200000
DTSTAMP:20260424T160653
CREATED:20240514T221516Z
LAST-MODIFIED:20240610T125826Z
UID:100672-1729353600-1729368000@ottawadowntownassociation.org
SUMMARY:A Victorian Haunting: A Taste of Ottawa and Its Spirits
DESCRIPTION:Embark on a journey through time and taste with “A Victorian Haunting: A Taste of Ottawa and its Spirits.” Prepare to be transported to the elegance and charm of the Victorian era as you indulge in chef-curated appetizers\, sip on hand-crafted cocktails\, and immerse yourself in a world of Victorian parlor activities\, such as palm reading\, tarot card readings\, and aura photography\, scattered throughout downtown Ottawa.\n\n“A Victorian Haunting” promises an unforgettable evening of gastronomic delights and historical immersion!\n\nTickets available soon.
URL:https://ottawadowntownassociation.org/event/a-victorian-haunting-a-taste-of-ottawa-and-its-spirits/
LOCATION:Downtown Ottawa
CATEGORIES:Downtown Event,Fundraising,Holidays
ATTACH;FMTTYPE=image/png:https://ottawadowntownassociation.org/wp-content/uploads/2024/05/A-Victorian-Haunting-fb-event-cover-01.png
END:VEVENT
END:VCALENDAR