BEGIN:VCALENDAR
VERSION:2.0
PRODID:-//Ottawa Downtown Association - ECPv6.15.20//NONSGML v1.0//EN
CALSCALE:GREGORIAN
METHOD:PUBLISH
X-WR-CALNAME:Ottawa Downtown Association
X-ORIGINAL-URL:https://ottawadowntownassociation.org
X-WR-CALDESC:Events for Ottawa Downtown Association
REFRESH-INTERVAL;VALUE=DURATION:PT1H
X-Robots-Tag:noindex
X-PUBLISHED-TTL:PT1H
BEGIN:VTIMEZONE
TZID:America/Chicago
BEGIN:DAYLIGHT
TZOFFSETFROM:-0600
TZOFFSETTO:-0500
TZNAME:CDT
DTSTART:20230312T080000
END:DAYLIGHT
BEGIN:STANDARD
TZOFFSETFROM:-0500
TZOFFSETTO:-0600
TZNAME:CST
DTSTART:20231105T070000
END:STANDARD
BEGIN:DAYLIGHT
TZOFFSETFROM:-0600
TZOFFSETTO:-0500
TZNAME:CDT
DTSTART:20240310T080000
END:DAYLIGHT
BEGIN:STANDARD
TZOFFSETFROM:-0500
TZOFFSETTO:-0600
TZNAME:CST
DTSTART:20241103T070000
END:STANDARD
BEGIN:DAYLIGHT
TZOFFSETFROM:-0600
TZOFFSETTO:-0500
TZNAME:CDT
DTSTART:20250309T080000
END:DAYLIGHT
BEGIN:STANDARD
TZOFFSETFROM:-0500
TZOFFSETTO:-0600
TZNAME:CST
DTSTART:20251102T070000
END:STANDARD
END:VTIMEZONE
BEGIN:VEVENT
DTSTART;TZID=America/Chicago:20241005T070000
DTEND;TZID=America/Chicago:20241005T170000
DTSTAMP:20260424T160655
CREATED:20240904T205523Z
LAST-MODIFIED:20240904T205542Z
UID:101016-1728111600-1728147600@ottawadowntownassociation.org
SUMMARY:United Way of Eastern LaSalle County's Labor of Love
DESCRIPTION:United Way of Eastern LaSalle County’s Labor of Love embodies the spirit of volunteerism and community support as we join hands to bring positive change to the homes of those in need. Labor of Love is not just a one-day home repair blitz; it’s a testament to the strength of our community and the belief that everyone deserves a safe and secure place to call home. \nDedicated volunteers converge for a day of hands-on work\, repairing and enhancing homes across Eastern LaSalle County. From essential repairs to creating accessible living spaces\, Labor of Love ensures that individuals and families facing challenges have a supportive community ready to uplift them. Together\, we are not just repairing homes; we are building a stronger\, more compassionate community where everyone can thrive. \nLend a Helping Hand Volunteer for the 33rd Annual Labor of Love and be part of an initiative that brings hope and support to our community. Your time and effort can change lives! Sign up now and make a difference!  Saturday\, October 5thCall us at 815-434-4003 or use the link below to sign up to volunteer.Volunteer Application: https://forms.gle/5MsX6JeYHbcr3Qh49
URL:https://ottawadowntownassociation.org/event/united-way-of-eastern-lasalle-countys-labor-of-love/
LOCATION:Marquette Academy Cafeteria
CATEGORIES:Community Service,Downtown Event
ATTACH;FMTTYPE=image/jpeg:https://ottawadowntownassociation.org/wp-content/uploads/2024/09/455290116_905658368274259_7658173515920386956_n.jpg
END:VEVENT
BEGIN:VEVENT
DTSTART;TZID=America/Chicago:20241005T080000
DTEND;TZID=America/Chicago:20241005T123000
DTSTAMP:20260424T160655
CREATED:20240904T201113Z
LAST-MODIFIED:20240904T201113Z
UID:100995-1728115200-1728131400@ottawadowntownassociation.org
SUMMARY:Ottawa Farmers and Makers Market
DESCRIPTION:Don’t Miss the Farmers and Makers Market on October 5th! \n\nKick off your Saturday morning with an exciting market experience from 8:00 AM to 12:30 PM. Enjoy fresh produce\, local honey\, handmade crafts\, and delectable local treats.\n\n Savor a variety of farm-fresh fruits and vegetables.\n Discover unique\, handcrafted treasures from talented local artisans.\n Delight in mouthwatering baked goods and tasty treats from food stalls.\n\nBring your family\, friends\, and even your pets for a day of fun and community spirit. Let’s come together to celebrate and support our local farmers and makers. See you there!
URL:https://ottawadowntownassociation.org/event/ottawa-farmers-and-makers-market-3/
LOCATION:Jackson Street\, 100 W Jackson Street\, Ottawa\, IL\, 61350\, United States
CATEGORIES:Downtown Event,Shopping
ATTACH;FMTTYPE=image/png:https://ottawadowntownassociation.org/wp-content/uploads/2024/09/farmers-and-makers-market.png
END:VEVENT
BEGIN:VEVENT
DTSTART;TZID=America/Chicago:20241005T110000
DTEND;TZID=America/Chicago:20241005T140000
DTSTAMP:20260424T160655
CREATED:20240904T202504Z
LAST-MODIFIED:20240904T202504Z
UID:101004-1728126000-1728136800@ottawadowntownassociation.org
SUMMARY:Battle for the Basket
DESCRIPTION:The Battle for the Basket is a food truck competition and fundraiser benefitting the Ottawa Community Food Basket. We’re inviting local businesses to join us and enhance the experience for our attendees. \nFood trucks will be serving special $5 menu items throughout the day. Attendees will cast their vote for their favorite dish with a monetary donation to the Food Basket. The winning truck will be crowded the Battle Winner.
URL:https://ottawadowntownassociation.org/event/battle-for-the-basket/
LOCATION:Jordan  Block\, 101 W Main St\, Ottawa\, Illinois
CATEGORIES:Downtown Event,Fundraising
ATTACH;FMTTYPE=image/jpeg:https://ottawadowntownassociation.org/wp-content/uploads/2024/09/458370860_122157613430063301_5424080101971969791_n.jpg
END:VEVENT
END:VCALENDAR