BEGIN:VCALENDAR
VERSION:2.0
PRODID:-//Ottawa Downtown Association - ECPv6.15.20//NONSGML v1.0//EN
CALSCALE:GREGORIAN
METHOD:PUBLISH
X-ORIGINAL-URL:https://ottawadowntownassociation.org
X-WR-CALDESC:Events for Ottawa Downtown Association
REFRESH-INTERVAL;VALUE=DURATION:PT1H
X-Robots-Tag:noindex
X-PUBLISHED-TTL:PT1H
BEGIN:VTIMEZONE
TZID:America/Chicago
BEGIN:DAYLIGHT
TZOFFSETFROM:-0600
TZOFFSETTO:-0500
TZNAME:CDT
DTSTART:20230312T080000
END:DAYLIGHT
BEGIN:STANDARD
TZOFFSETFROM:-0500
TZOFFSETTO:-0600
TZNAME:CST
DTSTART:20231105T070000
END:STANDARD
BEGIN:DAYLIGHT
TZOFFSETFROM:-0600
TZOFFSETTO:-0500
TZNAME:CDT
DTSTART:20240310T080000
END:DAYLIGHT
BEGIN:STANDARD
TZOFFSETFROM:-0500
TZOFFSETTO:-0600
TZNAME:CST
DTSTART:20241103T070000
END:STANDARD
BEGIN:DAYLIGHT
TZOFFSETFROM:-0600
TZOFFSETTO:-0500
TZNAME:CDT
DTSTART:20250309T080000
END:DAYLIGHT
BEGIN:STANDARD
TZOFFSETFROM:-0500
TZOFFSETTO:-0600
TZNAME:CST
DTSTART:20251102T070000
END:STANDARD
END:VTIMEZONE
BEGIN:VEVENT
DTSTART;TZID=America/Chicago:20240929T080000
DTEND;TZID=America/Chicago:20240929T170000
DTSTAMP:20260424T201913
CREATED:20240909T150040Z
LAST-MODIFIED:20240904T220437Z
UID:101022-1727596800-1727629200@ottawadowntownassociation.org
SUMMARY:Community Christmas Tree Ornament Making Event
DESCRIPTION:Help us decorate the Community Christmas Tree at the Chris Kringle Market! We invite the community to be a part of something truly special—decorating the community Christmas tree with the enchanting theme of “Gingerbread Lane.”  This is a wonderful opportunity for families to come together and contribute to the festive spirit by creating ornaments that will adorn the tree. The gingerbread house theme offers endless creative possibilities for everyone to enjoy. \nOrnament Decorating Events:\nSept. 29\, 1-5 pm\, Ottawa Fall Fest and Parade \nOct. 26\, Noon-3 pm\, Trunk or Treat on Court Street \nOct. 15\, 3-8 pm\, Open Space Art Gallery and Studios
URL:https://ottawadowntownassociation.org/event/community-christmas-tree-ornament-making-event/
LOCATION:Jordan Block\, 101-123 W Main St\,\, Ottawa\, IL\, 61350\, United States
CATEGORIES:Downtown Event,Holidays
ATTACH;FMTTYPE=image/png:https://ottawadowntownassociation.org/wp-content/uploads/2024/09/Help-us-decorate-the-Community-Christmas-Tree-1.png
END:VEVENT
BEGIN:VEVENT
DTSTART;TZID=America/Chicago:20240929T110000
DTEND;TZID=America/Chicago:20240929T160000
DTSTAMP:20260424T201913
CREATED:20240826T125354Z
LAST-MODIFIED:20240826T131213Z
UID:100976-1727607600-1727625600@ottawadowntownassociation.org
SUMMARY:Ottawa Fall Fest and Parade
DESCRIPTION:We are preparing a Fall parade on Sunday\, September 29th\, at 1:00 PM. The route will be determined. We are looking for organizations and schools to decorate floats on the theme of fall\, Halloween and related subject for a kid friendly event. There is a committee put together with members of City Hall\, the Special Events Committee\, Ottawa’s Visitor Center and volunteers.
URL:https://ottawadowntownassociation.org/event/ottawa-fall-fest-and-parade/
LOCATION:Downtown Ottawa
CATEGORIES:Downtown Event,Holidays
ATTACH;FMTTYPE=image/jpeg:https://ottawadowntownassociation.org/wp-content/uploads/2024/08/450580956_122101832504401280_7549819244497960232_n.jpg
END:VEVENT
END:VCALENDAR