BEGIN:VCALENDAR
VERSION:2.0
PRODID:-//Ottawa Downtown Association - ECPv6.15.20//NONSGML v1.0//EN
CALSCALE:GREGORIAN
METHOD:PUBLISH
X-ORIGINAL-URL:https://ottawadowntownassociation.org
X-WR-CALDESC:Events for Ottawa Downtown Association
REFRESH-INTERVAL;VALUE=DURATION:PT1H
X-Robots-Tag:noindex
X-PUBLISHED-TTL:PT1H
BEGIN:VTIMEZONE
TZID:America/Chicago
BEGIN:DAYLIGHT
TZOFFSETFROM:-0600
TZOFFSETTO:-0500
TZNAME:CDT
DTSTART:20230312T080000
END:DAYLIGHT
BEGIN:STANDARD
TZOFFSETFROM:-0500
TZOFFSETTO:-0600
TZNAME:CST
DTSTART:20231105T070000
END:STANDARD
BEGIN:DAYLIGHT
TZOFFSETFROM:-0600
TZOFFSETTO:-0500
TZNAME:CDT
DTSTART:20240310T080000
END:DAYLIGHT
BEGIN:STANDARD
TZOFFSETFROM:-0500
TZOFFSETTO:-0600
TZNAME:CST
DTSTART:20241103T070000
END:STANDARD
BEGIN:DAYLIGHT
TZOFFSETFROM:-0600
TZOFFSETTO:-0500
TZNAME:CDT
DTSTART:20250309T080000
END:DAYLIGHT
BEGIN:STANDARD
TZOFFSETFROM:-0500
TZOFFSETTO:-0600
TZNAME:CST
DTSTART:20251102T070000
END:STANDARD
END:VTIMEZONE
BEGIN:VEVENT
DTSTART;TZID=America/Chicago:20240921T080000
DTEND;TZID=America/Chicago:20240921T123000
DTSTAMP:20260424T185616
CREATED:20240917T142049Z
LAST-MODIFIED:20240917T142049Z
UID:101071-1726905600-1726921800@ottawadowntownassociation.org
SUMMARY:Ottawa Farmers and Makers Market
DESCRIPTION:Don’t Miss the Ottawa Farmers and Makers Market on Saturday\, Sept. 21! \n\nKick off your Saturday morning with an exciting market experience from 8:00 AM to 12:30 PM. Enjoy fresh produce\, local honey\, handmade crafts\, and delectable local treats.\n\n Savor a variety of farm-fresh fruits and vegetables.\n Discover unique\, handcrafted treasures from talented local artisans.\n Delight in mouthwatering baked goods and tasty treats from food stalls.\n\nBring your family\, friends\, and even your pets for a day of fun and community spirit. Let’s come together to celebrate and support our local farmers and makers. See you there!
URL:https://ottawadowntownassociation.org/event/ottawa-farmers-and-makers-market-5/
LOCATION:Jackson Street\, 100 W Jackson Street\, Ottawa\, IL\, 61350\, United States
CATEGORIES:Downtown Event,Shopping
ATTACH;FMTTYPE=image/png:https://ottawadowntownassociation.org/wp-content/uploads/2024/09/farmers-and-makers-market.png
END:VEVENT
BEGIN:VEVENT
DTSTART;TZID=America/Chicago:20240921T110000
DTEND;TZID=America/Chicago:20240921T210000
DTSTAMP:20260424T185616
CREATED:20240826T124148Z
LAST-MODIFIED:20240826T124211Z
UID:100970-1726916400-1726952400@ottawadowntownassociation.org
SUMMARY:Oktoberfest
DESCRIPTION:Head down to the Jordan Block in Downtown Ottawa and enjoy the Oktoberfest festivities! Music from The Happy Wanderers German Polka Band and the Flannel Junkies! Beer Garden (ticket link below) with our main sponsor\, Tangled Roots Brewery; the Wiener Dog Races; Stein Hoisting Competition; and great food from Polancic’s\, The Pierogi Rig\, and more!
URL:https://ottawadowntownassociation.org/event/oktoberfest/
LOCATION:Jordan Block\, 101-123 W Main St\,\, Ottawa\, IL\, 61350\, United States
CATEGORIES:Downtown Event
ATTACH;FMTTYPE=image/jpeg:https://ottawadowntownassociation.org/wp-content/uploads/2024/08/456449792_374349892388578_5184102445870425094_n.jpg
END:VEVENT
END:VCALENDAR