BEGIN:VCALENDAR
VERSION:2.0
PRODID:-//Ottawa Downtown Association - ECPv6.15.20//NONSGML v1.0//EN
CALSCALE:GREGORIAN
METHOD:PUBLISH
X-WR-CALNAME:Ottawa Downtown Association
X-ORIGINAL-URL:https://ottawadowntownassociation.org
X-WR-CALDESC:Events for Ottawa Downtown Association
REFRESH-INTERVAL;VALUE=DURATION:PT1H
X-Robots-Tag:noindex
X-PUBLISHED-TTL:PT1H
BEGIN:VTIMEZONE
TZID:America/Chicago
BEGIN:DAYLIGHT
TZOFFSETFROM:-0600
TZOFFSETTO:-0500
TZNAME:CDT
DTSTART:20230312T080000
END:DAYLIGHT
BEGIN:STANDARD
TZOFFSETFROM:-0500
TZOFFSETTO:-0600
TZNAME:CST
DTSTART:20231105T070000
END:STANDARD
BEGIN:DAYLIGHT
TZOFFSETFROM:-0600
TZOFFSETTO:-0500
TZNAME:CDT
DTSTART:20240310T080000
END:DAYLIGHT
BEGIN:STANDARD
TZOFFSETFROM:-0500
TZOFFSETTO:-0600
TZNAME:CST
DTSTART:20241103T070000
END:STANDARD
BEGIN:DAYLIGHT
TZOFFSETFROM:-0600
TZOFFSETTO:-0500
TZNAME:CDT
DTSTART:20250309T080000
END:DAYLIGHT
BEGIN:STANDARD
TZOFFSETFROM:-0500
TZOFFSETTO:-0600
TZNAME:CST
DTSTART:20251102T070000
END:STANDARD
END:VTIMEZONE
BEGIN:VEVENT
DTSTART;TZID=America/Chicago:20240910T080000
DTEND;TZID=America/Chicago:20240910T090000
DTSTAMP:20260424T185535
CREATED:20240904T205008Z
LAST-MODIFIED:20240904T205008Z
UID:101012-1725955200-1725958800@ottawadowntownassociation.org
SUMMARY:United Way Day
DESCRIPTION:Join us in Ottawa’s Washington Park as we kick off our 2024 Campaign with a celebration of community and partnership! Mayor Robb Hasty will officially proclaim September 10th as United Way of Eastern LaSalle County Day\, marking the start of a new chapter in our mission to support our comunity.\n\nCome enjoy coffee\, donuts\, and good company as we gather to celebrate the impact we can make together. Whether you’re a long-time supporter or new to United Way\, everyone is welcome to be part of this special event!\n\nLet’s come together to make a difference! \n\n Tuesday\, September 10th 9:00 AM – 10:00 AM Washington Park\, Ottawa
URL:https://ottawadowntownassociation.org/event/united-way-day/
LOCATION:Washington Square Park\, 101 E Lafayette St\, Ottawa\, Illinois
CATEGORIES:Community Service,Downtown Event,Fundraising
ATTACH;FMTTYPE=image/jpeg:https://ottawadowntownassociation.org/wp-content/uploads/2024/09/455014207_901744828665613_6220951512385041822_n.jpg
END:VEVENT
END:VCALENDAR