BEGIN:VCALENDAR
VERSION:2.0
PRODID:-//Ottawa Downtown Association - ECPv6.15.20//NONSGML v1.0//EN
CALSCALE:GREGORIAN
METHOD:PUBLISH
X-WR-CALNAME:Ottawa Downtown Association
X-ORIGINAL-URL:https://ottawadowntownassociation.org
X-WR-CALDESC:Events for Ottawa Downtown Association
REFRESH-INTERVAL;VALUE=DURATION:PT1H
X-Robots-Tag:noindex
X-PUBLISHED-TTL:PT1H
BEGIN:VTIMEZONE
TZID:America/Chicago
BEGIN:DAYLIGHT
TZOFFSETFROM:-0600
TZOFFSETTO:-0500
TZNAME:CDT
DTSTART:20230312T080000
END:DAYLIGHT
BEGIN:STANDARD
TZOFFSETFROM:-0500
TZOFFSETTO:-0600
TZNAME:CST
DTSTART:20231105T070000
END:STANDARD
BEGIN:DAYLIGHT
TZOFFSETFROM:-0600
TZOFFSETTO:-0500
TZNAME:CDT
DTSTART:20240310T080000
END:DAYLIGHT
BEGIN:STANDARD
TZOFFSETFROM:-0500
TZOFFSETTO:-0600
TZNAME:CST
DTSTART:20241103T070000
END:STANDARD
BEGIN:DAYLIGHT
TZOFFSETFROM:-0600
TZOFFSETTO:-0500
TZNAME:CDT
DTSTART:20250309T080000
END:DAYLIGHT
BEGIN:STANDARD
TZOFFSETFROM:-0500
TZOFFSETTO:-0600
TZNAME:CST
DTSTART:20251102T070000
END:STANDARD
END:VTIMEZONE
BEGIN:VEVENT
DTSTART;TZID=America/Chicago:20240824T070000
DTEND;TZID=America/Chicago:20240824T130000
DTSTAMP:20260424T201826
CREATED:20240318T012303Z
LAST-MODIFIED:20240325T002502Z
UID:100517-1724482800-1724504400@ottawadowntownassociation.org
SUMMARY:Farmers Market
DESCRIPTION:The Ottawa Farmers & Makers Market is a home-grown slice of local life\, featuring Ottawa area growers\, farmers\, bakers\, and makers! Stop by every Saturday starting June 1st through October 12th from 8:00am to 12:30pm on Jackston Street in Ottawa to check out the local vendors and support your friends and neighbors while purchasing fresh food\, handmade artisan crafts\, and more.
URL:https://ottawadowntownassociation.org/event/farmers-market-13/
LOCATION:Jackson Street\, 100 W Jackson Street\, Ottawa\, IL\, 61350\, United States
ATTACH;FMTTYPE=image/png:https://ottawadowntownassociation.org/wp-content/uploads/2024/03/346281108_1282788628984339_581220191161465922_n.png
END:VEVENT
BEGIN:VEVENT
DTSTART;TZID=America/Chicago:20240824T100000
DTEND;TZID=America/Chicago:20240824T150000
DTSTAMP:20260424T201826
CREATED:20240806T161836Z
LAST-MODIFIED:20240806T161901Z
UID:100939-1724493600-1724511600@ottawadowntownassociation.org
SUMMARY:Third Annual Children’s Business Fair
DESCRIPTION:We are taking the Children’s Business Fair out of the park this year and taking over the entire town! Over 20 Junior CEOs will have their booths set up in front of different Downtown Ottawa Merchants stores!\n\n\n\nPrairie Fox Books will have passports to show you where everyone will be located\, and you can go around and meet every Kid Boss\, show them some support\, and then have them sign your passport. Visit every Kid Business and fill out your passport to be entered in a raffle for a Downtown Ottawa Experience basket. Get signatures from the Merchant hosts by popping in and supporting them as well and get bonus raffle entries!\n\n\n\nShop small (in more ways than one) on Saturday\, August 24th! These kids create AMAZING products every year.
URL:https://ottawadowntownassociation.org/event/third-annual-childrens-business-fair/
LOCATION:Downtown Ottawa
CATEGORIES:Downtown Event
ATTACH;FMTTYPE=image/jpeg:https://ottawadowntownassociation.org/wp-content/uploads/2024/08/childrens-business-fair.jpg
END:VEVENT
BEGIN:VEVENT
DTSTART;TZID=America/Chicago:20240824T180000
DTEND;TZID=America/Chicago:20240824T200000
DTSTAMP:20260424T201826
CREATED:20240316T230107Z
LAST-MODIFIED:20240319T014001Z
UID:100446-1724522400-1724529600@ottawadowntownassociation.org
SUMMARY:Music in the Park with Silhouettes
DESCRIPTION:Get ready to groove and sway because Music in the Park is back in action for 2024!🎉 Join us on Saturday evenings from 6-8 PM in the serene setting of Washington Square for an unforgettable series of live musical performances!
URL:https://ottawadowntownassociation.org/event/music-in-the-park-with-silhouettes/
LOCATION:Washington Square Park\, 101 E Lafayette St\, Ottawa\, Illinois
ATTACH;FMTTYPE=image/png:https://ottawadowntownassociation.org/wp-content/uploads/2024/03/Music-in-the-Park-9.png
END:VEVENT
END:VCALENDAR