BEGIN:VCALENDAR
VERSION:2.0
PRODID:-//Ottawa Downtown Association - ECPv6.15.20//NONSGML v1.0//EN
CALSCALE:GREGORIAN
METHOD:PUBLISH
X-ORIGINAL-URL:https://ottawadowntownassociation.org
X-WR-CALDESC:Events for Ottawa Downtown Association
REFRESH-INTERVAL;VALUE=DURATION:PT1H
X-Robots-Tag:noindex
X-PUBLISHED-TTL:PT1H
BEGIN:VTIMEZONE
TZID:America/Chicago
BEGIN:DAYLIGHT
TZOFFSETFROM:-0600
TZOFFSETTO:-0500
TZNAME:CDT
DTSTART:20230312T080000
END:DAYLIGHT
BEGIN:STANDARD
TZOFFSETFROM:-0500
TZOFFSETTO:-0600
TZNAME:CST
DTSTART:20231105T070000
END:STANDARD
BEGIN:DAYLIGHT
TZOFFSETFROM:-0600
TZOFFSETTO:-0500
TZNAME:CDT
DTSTART:20240310T080000
END:DAYLIGHT
BEGIN:STANDARD
TZOFFSETFROM:-0500
TZOFFSETTO:-0600
TZNAME:CST
DTSTART:20241103T070000
END:STANDARD
BEGIN:DAYLIGHT
TZOFFSETFROM:-0600
TZOFFSETTO:-0500
TZNAME:CDT
DTSTART:20250309T080000
END:DAYLIGHT
BEGIN:STANDARD
TZOFFSETFROM:-0500
TZOFFSETTO:-0600
TZNAME:CST
DTSTART:20251102T070000
END:STANDARD
END:VTIMEZONE
BEGIN:VEVENT
DTSTART;TZID=America/Chicago:20240817T070000
DTEND;TZID=America/Chicago:20240817T130000
DTSTAMP:20260424T201816
CREATED:20240318T012110Z
LAST-MODIFIED:20240325T002606Z
UID:100515-1723878000-1723899600@ottawadowntownassociation.org
SUMMARY:Farmers Market
DESCRIPTION:The Ottawa Farmers & Makers Market is a home-grown slice of local life\, featuring Ottawa area growers\, farmers\, bakers\, and makers! Stop by every Saturday starting June 1st through October 12th from 8:00am to 12:30pm on Jackston Street in Ottawa to check out the local vendors and support your friends and neighbors while purchasing fresh food\, handmade artisan crafts\, and more.
URL:https://ottawadowntownassociation.org/event/farmers-market-12/
LOCATION:Jackson Street\, 100 W Jackson Street\, Ottawa\, IL\, 61350\, United States
ATTACH;FMTTYPE=image/png:https://ottawadowntownassociation.org/wp-content/uploads/2024/03/346281108_1282788628984339_581220191161465922_n.png
END:VEVENT
BEGIN:VEVENT
DTSTART;TZID=America/Chicago:20240817T180000
DTEND;TZID=America/Chicago:20240817T200000
DTSTAMP:20260424T201816
CREATED:20240316T225924Z
LAST-MODIFIED:20240319T014049Z
UID:100444-1723917600-1723924800@ottawadowntownassociation.org
SUMMARY:Music in the Park with Claremont Drive
DESCRIPTION:Get ready to groove and sway because Music in the Park is back in action for 2024!🎉 Join us on Saturday evenings from 6-8 PM in the serene setting of Washington Square for an unforgettable series of live musical performances!
URL:https://ottawadowntownassociation.org/event/music-in-the-park-with-claremont-drive/
LOCATION:Washington Square Park\, 101 E Lafayette St\, Ottawa\, Illinois
ATTACH;FMTTYPE=image/png:https://ottawadowntownassociation.org/wp-content/uploads/2024/03/Music-in-the-Park-8.png
END:VEVENT
END:VCALENDAR