BEGIN:VCALENDAR
VERSION:2.0
PRODID:-//Ottawa Downtown Association - ECPv6.15.20//NONSGML v1.0//EN
CALSCALE:GREGORIAN
METHOD:PUBLISH
X-WR-CALNAME:Ottawa Downtown Association
X-ORIGINAL-URL:https://ottawadowntownassociation.org
X-WR-CALDESC:Events for Ottawa Downtown Association
REFRESH-INTERVAL;VALUE=DURATION:PT1H
X-Robots-Tag:noindex
X-PUBLISHED-TTL:PT1H
BEGIN:VTIMEZONE
TZID:UTC
BEGIN:STANDARD
TZOFFSETFROM:+0000
TZOFFSETTO:+0000
TZNAME:UTC
DTSTART:20230101T000000
END:STANDARD
END:VTIMEZONE
BEGIN:VTIMEZONE
TZID:America/Chicago
BEGIN:DAYLIGHT
TZOFFSETFROM:-0600
TZOFFSETTO:-0500
TZNAME:CDT
DTSTART:20230312T080000
END:DAYLIGHT
BEGIN:STANDARD
TZOFFSETFROM:-0500
TZOFFSETTO:-0600
TZNAME:CST
DTSTART:20231105T070000
END:STANDARD
BEGIN:DAYLIGHT
TZOFFSETFROM:-0600
TZOFFSETTO:-0500
TZNAME:CDT
DTSTART:20240310T080000
END:DAYLIGHT
BEGIN:STANDARD
TZOFFSETFROM:-0500
TZOFFSETTO:-0600
TZNAME:CST
DTSTART:20241103T070000
END:STANDARD
BEGIN:DAYLIGHT
TZOFFSETFROM:-0600
TZOFFSETTO:-0500
TZNAME:CDT
DTSTART:20250309T080000
END:DAYLIGHT
BEGIN:STANDARD
TZOFFSETFROM:-0500
TZOFFSETTO:-0600
TZNAME:CST
DTSTART:20251102T070000
END:STANDARD
END:VTIMEZONE
BEGIN:VEVENT
DTSTART;TZID=UTC:20240801T100000
DTEND;TZID=UTC:20240803T160000
DTSTAMP:20260424T201824
CREATED:20240318T005334Z
LAST-MODIFIED:20240715T173207Z
UID:100504-1722506400-1722700800@ottawadowntownassociation.org
SUMMARY:Sidewalk Sales & Chalk the Walk
DESCRIPTION:Shop at participating Businesses and chalk the walk to make the downtown bright and colorful for Ottawa Friendship Days! Find amazing deals throughout the downtown. Each participating business will also have chalk for the kids to use while you shop!
URL:https://ottawadowntownassociation.org/event/sidewalk-sales-chalk-the-walk/
LOCATION:Downtown Ottawa
CATEGORIES:Downtown Event,Shopping
ATTACH;FMTTYPE=image/png:https://ottawadowntownassociation.org/wp-content/uploads/2024/03/ODA-Sidewalk-Sales-tea.png
END:VEVENT
BEGIN:VEVENT
DTSTART;VALUE=DATE:20240802
DTEND;VALUE=DATE:20240805
DTSTAMP:20260424T201824
CREATED:20240715T173011Z
LAST-MODIFIED:20240715T173011Z
UID:100798-1722556800-1722815999@ottawadowntownassociation.org
SUMMARY:Outdoor Craft and Vendors Show
DESCRIPTION:Aug. 2-4\, 10 am-6 pm\, Woodward Memorial Drive Parking Lot
URL:https://ottawadowntownassociation.org/event/outdoor-craft-and-vendors-show/
LOCATION:Woodward Memorial Parking Log\, Woodward Memorial Dr\, OTTAWA\, IL\, 61350-1041\, United States
CATEGORIES:Downtown Event,Shopping
ATTACH;FMTTYPE=image/jpeg:https://ottawadowntownassociation.org/wp-content/uploads/2024/07/451011476_1007904774672118_1838894491130592400_n-1.jpg
END:VEVENT
BEGIN:VEVENT
DTSTART;TZID=America/Chicago:20240803T070000
DTEND;TZID=America/Chicago:20240803T130000
DTSTAMP:20260424T201824
CREATED:20240318T011313Z
LAST-MODIFIED:20240325T002843Z
UID:100509-1722668400-1722690000@ottawadowntownassociation.org
SUMMARY:Farmers Market
DESCRIPTION:The Ottawa Farmers & Makers Market is a home-grown slice of local life\, featuring Ottawa area growers\, farmers\, bakers\, and makers! Stop by every Saturday starting June 1st through October 12th from 8:00am to 12:30pm on Jackston Street in Ottawa to check out the local vendors and support your friends and neighbors while purchasing fresh food\, handmade artisan crafts\, and more.
URL:https://ottawadowntownassociation.org/event/farmers-market-10/
LOCATION:Jackson Street\, 100 W Jackson Street\, Ottawa\, IL\, 61350\, United States
ATTACH;FMTTYPE=image/png:https://ottawadowntownassociation.org/wp-content/uploads/2024/03/346281108_1282788628984339_581220191161465922_n.png
END:VEVENT
BEGIN:VEVENT
DTSTART;TZID=America/Chicago:20240803T090000
DTEND;TZID=America/Chicago:20240803T160000
DTSTAMP:20260424T201824
CREATED:20240715T172723Z
LAST-MODIFIED:20240715T172723Z
UID:100794-1722675600-1722700800@ottawadowntownassociation.org
SUMMARY:Canal Day
DESCRIPTION:Aug. 3\, 9 am-4 pm \nHosted at Reddick Mansion\, Canal Tollhouse\, Ottawa Historical & Scouting Heritage Museum
URL:https://ottawadowntownassociation.org/event/canal-day/
LOCATION:Multiple Locations
CATEGORIES:Downtown Event
ATTACH;FMTTYPE=image/jpeg:https://ottawadowntownassociation.org/wp-content/uploads/2024/07/451011476_1007904774672118_1838894491130592400_n-1.jpg
END:VEVENT
BEGIN:VEVENT
DTSTART;TZID=America/Chicago:20240803T180000
DTEND;TZID=America/Chicago:20240803T200000
DTSTAMP:20260424T201824
CREATED:20240316T225617Z
LAST-MODIFIED:20240319T014633Z
UID:100440-1722708000-1722715200@ottawadowntownassociation.org
SUMMARY:Music in the Park with Seal with a Kiss
DESCRIPTION:Get ready to groove and sway because Music in the Park is back in action for 2024!🎉 Join us on Saturday evenings from 6-8 PM in the serene setting of Washington Square for an unforgettable series of live musical performances!
URL:https://ottawadowntownassociation.org/event/music-in-the-park-with-seal-with-a-kiss/
LOCATION:Washington Square Park\, 101 E Lafayette St\, Ottawa\, Illinois
ATTACH;FMTTYPE=image/png:https://ottawadowntownassociation.org/wp-content/uploads/2024/03/Music-in-the-Park-6.png
END:VEVENT
END:VCALENDAR