BEGIN:VCALENDAR
VERSION:2.0
PRODID:-//Ottawa Downtown Association - ECPv6.15.20//NONSGML v1.0//EN
CALSCALE:GREGORIAN
METHOD:PUBLISH
X-ORIGINAL-URL:https://ottawadowntownassociation.org
X-WR-CALDESC:Events for Ottawa Downtown Association
REFRESH-INTERVAL;VALUE=DURATION:PT1H
X-Robots-Tag:noindex
X-PUBLISHED-TTL:PT1H
BEGIN:VTIMEZONE
TZID:America/Chicago
BEGIN:DAYLIGHT
TZOFFSETFROM:-0600
TZOFFSETTO:-0500
TZNAME:CDT
DTSTART:20230312T080000
END:DAYLIGHT
BEGIN:STANDARD
TZOFFSETFROM:-0500
TZOFFSETTO:-0600
TZNAME:CST
DTSTART:20231105T070000
END:STANDARD
BEGIN:DAYLIGHT
TZOFFSETFROM:-0600
TZOFFSETTO:-0500
TZNAME:CDT
DTSTART:20240310T080000
END:DAYLIGHT
BEGIN:STANDARD
TZOFFSETFROM:-0500
TZOFFSETTO:-0600
TZNAME:CST
DTSTART:20241103T070000
END:STANDARD
BEGIN:DAYLIGHT
TZOFFSETFROM:-0600
TZOFFSETTO:-0500
TZNAME:CDT
DTSTART:20250309T080000
END:DAYLIGHT
BEGIN:STANDARD
TZOFFSETFROM:-0500
TZOFFSETTO:-0600
TZNAME:CST
DTSTART:20251102T070000
END:STANDARD
END:VTIMEZONE
BEGIN:VEVENT
DTSTART;TZID=America/Chicago:20240706T083000
DTEND;TZID=America/Chicago:20240731T163000
DTSTAMP:20260424T231119
CREATED:20240625T182053Z
LAST-MODIFIED:20240625T182053Z
UID:100758-1720254600-1722443400@ottawadowntownassociation.org
SUMMARY:"We the People" A Traveling Exhibit
DESCRIPTION:9/11 was a tragic day for our country. Educating younger generations about this tragedy bridges the gap of first-hand experience and fosters and understanding of its lasting impact on our nation. \nAt the center of the exhibit are two beam pieces from the North Tower of the World Trade Center\, which serve as a powerful reminder of the September 11th attacks. The Talk-Back Star Table\, designed to engage children in thinking and communicating about helping others in their community\, complements the beams. The exhibit is generously shared with us from the Children’s Museum in Oak Lawn\, IL\, and will be available for public viewing at the IVCC Ottawa Campus for July 2024. \nSchedule of Events\nMonday\, July 1 | 10 am\nProcession of the “We the People” exhibit with the Illinois State Patriot Guard and area first responders. The caravan will begin in Morris\, traveling down Route 6 through Senecan and Marseilles to Ottawa. \nSaturday\, July 6 | 10 am – 3 pm\nGrand Opening Ceremony\n10 am: Posting of the Colors by the American Legion\, followed by a Ribbon Cutting with the Ottawa Area Chamber of Commerce \nWe welcome the community to celebrate the arrival of the exhibit. Our generous sponsors will treat guests to hot dogs\, popcorn\, sno cones\, and water/soda\, starting at 11 am until supplies last. The OVC will also launch the children’s scavenger hunt. Participants will receive a goodie bag when completed. Please look for details on the OVC Facebook page. \nSaturday\, July 6-Wednesday\, July 31\n“We the People” exhibit will be available for public viewing at the IVCC Ottawa Campus\, 321 W. Main Street\, Room #101. Monday-Friday\, 8:30 am-4:30 pm\, Saturday\, 10 am- 3 pm
URL:https://ottawadowntownassociation.org/event/we-the-people-a-traveling-exhibit/
LOCATION:Illinois Valley Community College- Ottawa Campus\, 321 W. Main Street\, Ottawa\, IL\, 61350\, United States
CATEGORIES:Downtown Event,Holidays
ATTACH;FMTTYPE=image/jpeg:https://ottawadowntownassociation.org/wp-content/uploads/2024/06/449076690_782030300748112_228333343379629711_n.jpg
END:VEVENT
BEGIN:VEVENT
DTSTART;TZID=America/Chicago:20240719T170000
DTEND;TZID=America/Chicago:20240719T210000
DTSTAMP:20260424T231119
CREATED:20240318T002259Z
LAST-MODIFIED:20240319T015424Z
UID:100491-1721408400-1721422800@ottawadowntownassociation.org
SUMMARY:Ottawa's Third Friday Artisan Market
DESCRIPTION:Arts\, culture and entertainment come alive every Third Friday in downtown Ottawa\, Illinois. Art\, vendors\, music and live events hosted by Open Space Art Gallery. Enjoy later shopping hours at many of the downtown retailers and enjoy custom food and drink specials at several of our fantastic restaurants.
URL:https://ottawadowntownassociation.org/event/third-friday-artisan-market/
LOCATION:Open Space Art Gallery & Studio\, 223 W Madison St\, Ottawa\, Illinois
ATTACH;FMTTYPE=image/jpeg:https://ottawadowntownassociation.org/wp-content/uploads/2024/03/B2B870BE-3358-4DE2-B531-4801B1438882.jpeg
END:VEVENT
BEGIN:VEVENT
DTSTART;TZID=America/Chicago:20240719T190000
DTEND;TZID=America/Chicago:20240719T220000
DTSTAMP:20260424T231119
CREATED:20240318T001901Z
LAST-MODIFIED:20240717T214613Z
UID:100488-1721415600-1721426400@ottawadowntownassociation.org
SUMMARY:Jordan Block Jams:Ripped Jeans Duo & Floret Events Drinks
DESCRIPTION:Join us for an unforgettable evening of live music\, community vibes\, and good times as we kick off this exciting new venture. Plus\, indulge in delicious food and refreshing drinks from our food and drink vendors. Whether you are a longtime music lover or just looking for a fun way to spend your evening\, Jordan Block Jams Promise to deliver an experience like no other.
URL:https://ottawadowntownassociation.org/event/jordan-block-jamsripped-jeans-duo-floret-events-drinks/
LOCATION:Jordan  Block\, 101 W Main St\, Ottawa\, Illinois
CATEGORIES:Downtown Event
ATTACH;FMTTYPE=image/jpeg:https://ottawadowntownassociation.org/wp-content/uploads/2024/03/450695989_791487219802420_3638164234141876660_n.jpg
END:VEVENT
END:VCALENDAR