BEGIN:VCALENDAR
VERSION:2.0
PRODID:-//Ottawa Downtown Association - ECPv6.15.20//NONSGML v1.0//EN
CALSCALE:GREGORIAN
METHOD:PUBLISH
X-WR-CALNAME:Ottawa Downtown Association
X-ORIGINAL-URL:https://ottawadowntownassociation.org
X-WR-CALDESC:Events for Ottawa Downtown Association
REFRESH-INTERVAL;VALUE=DURATION:PT1H
X-Robots-Tag:noindex
X-PUBLISHED-TTL:PT1H
BEGIN:VTIMEZONE
TZID:UTC
BEGIN:STANDARD
TZOFFSETFROM:+0000
TZOFFSETTO:+0000
TZNAME:UTC
DTSTART:20230101T000000
END:STANDARD
END:VTIMEZONE
BEGIN:VEVENT
DTSTART;TZID=UTC:20240518T110000
DTEND;TZID=UTC:20240519T160000
DTSTAMP:20260425T062102
CREATED:20240316T233400Z
LAST-MODIFIED:20240514T193345Z
UID:100454-1716030000-1716134400@ottawadowntownassociation.org
SUMMARY:Kites in Flight
DESCRIPTION:This 2-day event will again feature professional kite flying demonstrations from the Chicago Kite Company\, a designated area for kids/family kite flying\, entertainment to get the children moving\, a candy drop\, balloon artists\, face painting\, bounce houses\, and more! With over 4\,000 attendees\, this festival is the largest of its kind in our area\, and we anticipate it continuing to grow.\nAnd did we mention…it’s ALL FREE for families to enjoy!
URL:https://ottawadowntownassociation.org/event/kites-in-flight/
LOCATION:Old Central School Lot\, 400 Clinton St\, Ottawa\, Illioins
CATEGORIES:Downtown Event
ATTACH;FMTTYPE=image/jpeg:https://ottawadowntownassociation.org/wp-content/uploads/2024/03/kites.jpg
END:VEVENT
END:VCALENDAR