BEGIN:VCALENDAR
VERSION:2.0
PRODID:-//Ottawa Downtown Association - ECPv6.15.20//NONSGML v1.0//EN
CALSCALE:GREGORIAN
METHOD:PUBLISH
X-WR-CALNAME:Ottawa Downtown Association
X-ORIGINAL-URL:https://ottawadowntownassociation.org
X-WR-CALDESC:Events for Ottawa Downtown Association
REFRESH-INTERVAL;VALUE=DURATION:PT1H
X-Robots-Tag:noindex
X-PUBLISHED-TTL:PT1H
BEGIN:VTIMEZONE
TZID:UTC
BEGIN:STANDARD
TZOFFSETFROM:+0000
TZOFFSETTO:+0000
TZNAME:UTC
DTSTART:20230101T000000
END:STANDARD
END:VTIMEZONE
BEGIN:VEVENT
DTSTART;TZID=UTC:20240511T070000
DTEND;TZID=UTC:20240511T133000
DTSTAMP:20260425T062059
CREATED:20240510T010006Z
LAST-MODIFIED:20240510T010006Z
UID:100641-1715410800-1715434200@ottawadowntownassociation.org
SUMMARY:Starved Rock Country Marathon
DESCRIPTION:A 26.2\, 13.1 or 5k run through scenic and historic Starved Rock Country. Great views and run through the area. Starting in the Heart of Starved Rock State Park and ending along the riverfront in Downtown Ottawa. Takes place Saturday\, May 11\, starting at 7 am in downtown Ottawa\, IL. 
URL:https://ottawadowntownassociation.org/event/starved-rock-country-marathon/
LOCATION:IL
ATTACH;FMTTYPE=image/png:https://ottawadowntownassociation.org/wp-content/uploads/2024/05/ODA-Event-Image-Template-2.png
END:VEVENT
END:VCALENDAR