BEGIN:VCALENDAR
VERSION:2.0
PRODID:-//Ottawa Downtown Association - ECPv6.15.20//NONSGML v1.0//EN
CALSCALE:GREGORIAN
METHOD:PUBLISH
X-WR-CALNAME:Ottawa Downtown Association
X-ORIGINAL-URL:https://ottawadowntownassociation.org
X-WR-CALDESC:Events for Ottawa Downtown Association
REFRESH-INTERVAL;VALUE=DURATION:PT1H
X-Robots-Tag:noindex
X-PUBLISHED-TTL:PT1H
BEGIN:VTIMEZONE
TZID:UTC
BEGIN:STANDARD
TZOFFSETFROM:+0000
TZOFFSETTO:+0000
TZNAME:UTC
DTSTART:20230101T000000
END:STANDARD
END:VTIMEZONE
BEGIN:VEVENT
DTSTART;TZID=UTC:20240411T173000
DTEND;TZID=UTC:20240411T203000
DTSTAMP:20260425T062005
CREATED:20240409T201125Z
LAST-MODIFIED:20240409T201125Z
UID:100625-1712856600-1712867400@ottawadowntownassociation.org
SUMMARY:Painting for a Purpose: Ottawa Downtown Association
DESCRIPTION:Join us as we host a BYOB painting class (40 seats available) and a portion of the proceeds will go towards a local charity or cause. Come create with us while supporting your community. This event will be raising money for the Ottawa Downtown Association.\n\nThere will also be raffle baskets at this event.\n\nThe Ottawa Downtown Association plays a pivotal role in shaping the heart of downtown Ottawa\, Illinois into a vibrant hub of culture\, commerce\, and community. Our mission is to champion and nurture the heart of our city. We are dedicated to fostering a thriving\, dynamic downtown community\, empowering local businesses\, and supporting exceptional events and activities for residents and visitors alike. Through collaboration and innovation\, we aim to create an inclusive and vibrant core that reflects the spirit and diversity of our beloved city.\n\nPreregistration required\nBYOB permitted to guests over 21.
URL:https://ottawadowntownassociation.org/event/painting-for-a-purpose-ottawa-downtown-association/
LOCATION:Open Space Art Gallery & Studio\, 223 W Madison St\, Ottawa\, Illinois
CATEGORIES:Downtown Businesses,Fundraising
ATTACH;FMTTYPE=image/jpeg:https://ottawadowntownassociation.org/wp-content/uploads/2024/04/433518633_732975192305663_7873992518477932580_n.jpg
END:VEVENT
END:VCALENDAR