BEGIN:VCALENDAR
VERSION:2.0
PRODID:-//Ottawa Downtown Association - ECPv6.15.20//NONSGML v1.0//EN
CALSCALE:GREGORIAN
METHOD:PUBLISH
X-ORIGINAL-URL:https://ottawadowntownassociation.org
X-WR-CALDESC:Events for Ottawa Downtown Association
REFRESH-INTERVAL;VALUE=DURATION:PT1H
X-Robots-Tag:noindex
X-PUBLISHED-TTL:PT1H
BEGIN:VTIMEZONE
TZID:UTC
BEGIN:STANDARD
TZOFFSETFROM:+0000
TZOFFSETTO:+0000
TZNAME:UTC
DTSTART:20230101T000000
END:STANDARD
END:VTIMEZONE
BEGIN:VEVENT
DTSTART;TZID=UTC:20240330T130000
DTEND;TZID=UTC:20240330T150000
DTSTAMP:20260425T110343
CREATED:20240309T215925Z
LAST-MODIFIED:20240309T215925Z
UID:100394-1711803600-1711810800@ottawadowntownassociation.org
SUMMARY:Floret Events Hurray for Spring Egg Hunt & Scavenger Hunt
DESCRIPTION:Join Floret Events for the Hurray for Spring Egg Hunt and Scavenger Hunt. Free treats\, crafts\, and hunt. Traditional egg hunt will be on the Jordan Block. Scavenger hunt check-in and treats/crafts will be at Flore\, 610 Court Street.
URL:https://ottawadowntownassociation.org/event/floret-events-hurray-for-spring-egg-hunt-scavenger-hunt/
LOCATION:Jordan Block\, 101-123 W Main St\,\, Ottawa\, IL\, 61350\, United States
CATEGORIES:Holidays
ATTACH;FMTTYPE=image/jpeg:https://ottawadowntownassociation.org/wp-content/uploads/2024/03/2024-Egg-Hunt-Social-Media.jpg
END:VEVENT
END:VCALENDAR