BEGIN:VCALENDAR
VERSION:2.0
PRODID:-//Ottawa Downtown Association - ECPv6.15.20//NONSGML v1.0//EN
CALSCALE:GREGORIAN
METHOD:PUBLISH
X-ORIGINAL-URL:https://ottawadowntownassociation.org
X-WR-CALDESC:Events for Ottawa Downtown Association
REFRESH-INTERVAL;VALUE=DURATION:PT1H
X-Robots-Tag:noindex
X-PUBLISHED-TTL:PT1H
BEGIN:VTIMEZONE
TZID:UTC
BEGIN:STANDARD
TZOFFSETFROM:+0000
TZOFFSETTO:+0000
TZNAME:UTC
DTSTART:20230101T000000
END:STANDARD
END:VTIMEZONE
BEGIN:VEVENT
DTSTART;TZID=UTC:20240224T160000
DTEND;TZID=UTC:20240224T190000
DTSTAMP:20260425T110343
CREATED:20240118T025903Z
LAST-MODIFIED:20240118T030001Z
UID:100379-1708790400-1708801200@ottawadowntownassociation.org
SUMMARY:Coldest Night of the Year (CNOY)
DESCRIPTION:Illinois Valley PADS is joining in on the national walk – Coldest Night of the Year (CNOY). The Coldest Night of the Year is a winter family-friendly fundraising walk that brings awareness to the plight of the homeless and benefits the mission of Illinois Valley PADS. \nIV PADS (with shelters in Ottawa and Peru\, IL) is asking everyone to brave the chill together and stand in solidarity with those who face the bitter cold of homelessness every day. \nBY WALKING\, you’ll feel a hint of the challenge faced by those experiencing homelessness and hopelessness during winter. BY FUNDRAISING\, you’ll directly contribute to the vital funds needed to support the growing homeless population in the Illinois Valley area. \nREGISTER at CNOY.com (location – Ottawa\, IL) to form or join a team\, to donate or to volunteer. \nTogether we can raise funds to continue to provide safe shelter\, nourishing meals\, and access to life-changing services in the Illinois Valley area. \nDay’s Agenda\n4:00 pm – Welcome / Check-in\n5:00 pm – Send off\n6:00 pm – Light meal provided\n7:00 pm – Conclusion
URL:https://ottawadowntownassociation.org/event/coldest-night-of-the-year-cnoy/
LOCATION:Jordan Block\, 101-123 W Main St\,\, Ottawa\, IL\, 61350\, United States
CATEGORIES:Community Service,Fundraising
ATTACH;FMTTYPE=image/png:https://ottawadowntownassociation.org/wp-content/uploads/2024/01/cnoyusa_savethedate2024_rectangle.png
ORGANIZER;CN="IV PADS":MAILTO:sallymvancura@gmail.com
END:VEVENT
END:VCALENDAR